BEGIN:VCALENDAR
VERSION:2.0
PRODID:-//Manresa Jesuit Retreat House - ECPv6.15.20//NONSGML v1.0//EN
CALSCALE:GREGORIAN
METHOD:PUBLISH
X-ORIGINAL-URL:https://www.manresa-sj.org
X-WR-CALDESC:Events for Manresa Jesuit Retreat House
REFRESH-INTERVAL;VALUE=DURATION:PT1H
X-Robots-Tag:noindex
X-PUBLISHED-TTL:PT1H
BEGIN:VTIMEZONE
TZID:America/Detroit
BEGIN:DAYLIGHT
TZOFFSETFROM:-0500
TZOFFSETTO:-0400
TZNAME:EDT
DTSTART:20230312T070000
END:DAYLIGHT
BEGIN:STANDARD
TZOFFSETFROM:-0400
TZOFFSETTO:-0500
TZNAME:EST
DTSTART:20231105T060000
END:STANDARD
BEGIN:DAYLIGHT
TZOFFSETFROM:-0500
TZOFFSETTO:-0400
TZNAME:EDT
DTSTART:20240310T070000
END:DAYLIGHT
BEGIN:STANDARD
TZOFFSETFROM:-0400
TZOFFSETTO:-0500
TZNAME:EST
DTSTART:20241103T060000
END:STANDARD
BEGIN:DAYLIGHT
TZOFFSETFROM:-0500
TZOFFSETTO:-0400
TZNAME:EDT
DTSTART:20250309T070000
END:DAYLIGHT
BEGIN:STANDARD
TZOFFSETFROM:-0400
TZOFFSETTO:-0500
TZNAME:EST
DTSTART:20251102T060000
END:STANDARD
END:VTIMEZONE
BEGIN:VEVENT
DTSTART;TZID=America/Detroit:20240202T183000
DTEND;TZID=America/Detroit:20240204T123000
DTSTAMP:20260424T205801
CREATED:20230829T103541Z
LAST-MODIFIED:20240105T141316Z
UID:4478-1706898600-1707049800@www.manresa-sj.org
SUMMARY:Weekend Retreat for Men in Recovery
DESCRIPTION:Silent retreat for men in the tradition of St. Ignatius of Loyola and under the patronage of Fr. John C. Ford\, SJ. Director: Fr. Bob Ytsen\, SJ. \nAll men are welcome. For more information\, contact a captain: Don B. —248-613-7575\, Tom D.—586-873-2712\, Bob S.—313-378-6323\, Frank F.—313-204-2214\, Jim V.—313-205-0071\, Robert H.—248-202-3275.
URL:https://www.manresa-sj.org/event/weekend-retreat-for-men-in-recovery/
LOCATION:Manresa Jesuit Retreat House\, 1390 Quarton Road\, Bloomfield Hills\, MI\, 48304\, United States
CATEGORIES:Retreats
ATTACH;FMTTYPE=image/jpeg:https://www.manresa-sj.org/wp-content/uploads/2023/08/020224-Fr-John-Ford-SJ.jpg
END:VEVENT
END:VCALENDAR