BEGIN:VCALENDAR
VERSION:2.0
PRODID:-//Manresa Jesuit Retreat House - ECPv6.15.20//NONSGML v1.0//EN
CALSCALE:GREGORIAN
METHOD:PUBLISH
X-WR-CALNAME:Manresa Jesuit Retreat House
X-ORIGINAL-URL:https://www.manresa-sj.org
X-WR-CALDESC:Events for Manresa Jesuit Retreat House
REFRESH-INTERVAL;VALUE=DURATION:PT1H
X-Robots-Tag:noindex
X-PUBLISHED-TTL:PT1H
BEGIN:VTIMEZONE
TZID:America/Detroit
BEGIN:DAYLIGHT
TZOFFSETFROM:-0500
TZOFFSETTO:-0400
TZNAME:EDT
DTSTART:20230312T070000
END:DAYLIGHT
BEGIN:STANDARD
TZOFFSETFROM:-0400
TZOFFSETTO:-0500
TZNAME:EST
DTSTART:20231105T060000
END:STANDARD
BEGIN:DAYLIGHT
TZOFFSETFROM:-0500
TZOFFSETTO:-0400
TZNAME:EDT
DTSTART:20240310T070000
END:DAYLIGHT
BEGIN:STANDARD
TZOFFSETFROM:-0400
TZOFFSETTO:-0500
TZNAME:EST
DTSTART:20241103T060000
END:STANDARD
BEGIN:DAYLIGHT
TZOFFSETFROM:-0500
TZOFFSETTO:-0400
TZNAME:EDT
DTSTART:20250309T070000
END:DAYLIGHT
BEGIN:STANDARD
TZOFFSETFROM:-0400
TZOFFSETTO:-0500
TZNAME:EST
DTSTART:20251102T060000
END:STANDARD
END:VTIMEZONE
BEGIN:VEVENT
DTSTART;TZID=America/Detroit:20240205T170000
DTEND;TZID=America/Detroit:20240205T180000
DTSTAMP:20260424T182349
CREATED:20231027T074853Z
LAST-MODIFIED:20240116T163140Z
UID:5625-1707152400-1707156000@www.manresa-sj.org
SUMMARY:Christian Yoga for body\, mind & spirit - Winter 2024
DESCRIPTION:Jan. 8\, 15\, 22\, 29 | Feb. 5\, 12\, 19\, 26 | Mar. 4\, 11\, 2024 \nChristian Yoga is a form of prayer in which we place ourselves on this journey to be present in the moment with God\, with a focus on breath. As we move through postures accompanied by meditative quiet and prayer\, we find balance\, strength and union of our whole self with God. In the end\, this brings us to our quiet center to be still with God and to know His peace. Join us for this healthy\, healing practice in an atmosphere of prayer and meditation. \nInstructor: Mary Gresens is a graduate of Manresa’s Internship in Spiritual Companionship\, certified yoga instructor and first degree black belt Nia teacher. \n*Zoom instructions will be emailed to registered participants prior to each session. \nOnline registration is closed. Please call the front office at 248-644-4933 Ext. 0.
URL:https://www.manresa-sj.org/event/christian-yoga-for-body-mind-spirit-18/
LOCATION:Manresa Jesuit Retreat House\, 1390 Quarton Road\, Bloomfield Hills\, MI\, 48304\, United States
CATEGORIES:Programs
ATTACH;FMTTYPE=image/jpeg:https://www.manresa-sj.org/wp-content/uploads/2020/03/rocks-2.jpg
END:VEVENT
BEGIN:VEVENT
DTSTART;TZID=America/Detroit:20240205T183000
DTEND;TZID=America/Detroit:20240205T194500
DTSTAMP:20260424T182349
CREATED:20231027T081606Z
LAST-MODIFIED:20231027T081606Z
UID:5670-1707157800-1707162300@www.manresa-sj.org
SUMMARY:Being Sustained in All Things: Learning from Thomas Merton
DESCRIPTION:Jan. 15\, 22\, 29 | Feb. 5\, 12\, 19\, 2024 \nOur challenge today is how to live deeply from a place of love and joy\, yet face and respond to division and rapid change. \nIn this six-week series\, we will use the podcasts from Season 1 of “Turning to the Mystsics: Thomas Merton” (free from cac.org/podcast/turning-to-the-mystics) to deepen our relationship with God. Featuring clinical psychologist and student of Thomas Merton\, Dr. James Finley\, these reflections on Merton invite us to a deepening sense of quiet in the midst of the joys and difficulties of our lives. It is here that we begin to access being lovingly sustained and led by our loving God. \nParticipants are asked to spend a half-hour a day listening to part of a podcast\, reflecting on it\, briefly journaling\, sitting in silence with it and being prepared to share their thoughts in Zoom meetings. \nFacilitator:  Rosemary Insley is a retired chaplain and bereavement counselor with Master’s degrees in Pastoral Studies and Social Work. As a spiritual companion\, she guides others in the Spiritual Exercises and in retreats. \n*Zoom instructions will be emailed to registered participants prior to each session.
URL:https://www.manresa-sj.org/event/being-sustained-in-all-things-learning-from-thomas-merton-4/
LOCATION:Manresa Jesuit Retreat House\, 1390 Quarton Road\, Bloomfield Hills\, MI\, 48304\, United States
CATEGORIES:Programs
ATTACH;FMTTYPE=image/jpeg:https://www.manresa-sj.org/wp-content/uploads/2020/03/thomas-merton.jpg
END:VEVENT
END:VCALENDAR