BEGIN:VCALENDAR
VERSION:2.0
PRODID:-//Manresa Jesuit Retreat House - ECPv6.15.20//NONSGML v1.0//EN
CALSCALE:GREGORIAN
METHOD:PUBLISH
X-WR-CALNAME:Manresa Jesuit Retreat House
X-ORIGINAL-URL:https://www.manresa-sj.org
X-WR-CALDESC:Events for Manresa Jesuit Retreat House
REFRESH-INTERVAL;VALUE=DURATION:PT1H
X-Robots-Tag:noindex
X-PUBLISHED-TTL:PT1H
BEGIN:VTIMEZONE
TZID:America/Detroit
BEGIN:DAYLIGHT
TZOFFSETFROM:-0500
TZOFFSETTO:-0400
TZNAME:EDT
DTSTART:20230312T070000
END:DAYLIGHT
BEGIN:STANDARD
TZOFFSETFROM:-0400
TZOFFSETTO:-0500
TZNAME:EST
DTSTART:20231105T060000
END:STANDARD
BEGIN:DAYLIGHT
TZOFFSETFROM:-0500
TZOFFSETTO:-0400
TZNAME:EDT
DTSTART:20240310T070000
END:DAYLIGHT
BEGIN:STANDARD
TZOFFSETFROM:-0400
TZOFFSETTO:-0500
TZNAME:EST
DTSTART:20241103T060000
END:STANDARD
BEGIN:DAYLIGHT
TZOFFSETFROM:-0500
TZOFFSETTO:-0400
TZNAME:EDT
DTSTART:20250309T070000
END:DAYLIGHT
BEGIN:STANDARD
TZOFFSETFROM:-0400
TZOFFSETTO:-0500
TZNAME:EST
DTSTART:20251102T060000
END:STANDARD
END:VTIMEZONE
BEGIN:VEVENT
DTSTART;TZID=America/Detroit:20240209T183000
DTEND;TZID=America/Detroit:20240211T123000
DTSTAMP:20260424T205713
CREATED:20230829T103743Z
LAST-MODIFIED:20240206T194440Z
UID:4483-1707503400-1707654600@www.manresa-sj.org
SUMMARY:Weekend Retreat for Women
DESCRIPTION:Silent retreat for women in the tradition of St. Ignatius of Loyola and under the patronage of St. John de Brito\, SJ. Director: Sr. Linda Sevcik\, SJ. \nAll women are welcome. For more information\, contact Dalia Dimock—248-722-1991\, Laura Gutmann—586-876-8959\, Gerry Schihl—586-610-1911\, Michalyn Gret—586-549-4811.
URL:https://www.manresa-sj.org/event/weekend-retreat-for-women/
LOCATION:Manresa Jesuit Retreat House\, 1390 Quarton Road\, Bloomfield Hills\, MI\, 48304\, United States
CATEGORIES:Retreats
ATTACH;FMTTYPE=image/jpeg:https://www.manresa-sj.org/wp-content/uploads/2023/08/020924-Fr.-John-de-Brito-SJ.jpg
END:VEVENT
END:VCALENDAR