BEGIN:VCALENDAR
VERSION:2.0
PRODID:-//Manresa Jesuit Retreat House - ECPv6.15.20//NONSGML v1.0//EN
CALSCALE:GREGORIAN
METHOD:PUBLISH
X-WR-CALNAME:Manresa Jesuit Retreat House
X-ORIGINAL-URL:https://www.manresa-sj.org
X-WR-CALDESC:Events for Manresa Jesuit Retreat House
REFRESH-INTERVAL;VALUE=DURATION:PT1H
X-Robots-Tag:noindex
X-PUBLISHED-TTL:PT1H
BEGIN:VTIMEZONE
TZID:America/Detroit
BEGIN:DAYLIGHT
TZOFFSETFROM:-0500
TZOFFSETTO:-0400
TZNAME:EDT
DTSTART:20230312T070000
END:DAYLIGHT
BEGIN:STANDARD
TZOFFSETFROM:-0400
TZOFFSETTO:-0500
TZNAME:EST
DTSTART:20231105T060000
END:STANDARD
BEGIN:DAYLIGHT
TZOFFSETFROM:-0500
TZOFFSETTO:-0400
TZNAME:EDT
DTSTART:20240310T070000
END:DAYLIGHT
BEGIN:STANDARD
TZOFFSETFROM:-0400
TZOFFSETTO:-0500
TZNAME:EST
DTSTART:20241103T060000
END:STANDARD
BEGIN:DAYLIGHT
TZOFFSETFROM:-0500
TZOFFSETTO:-0400
TZNAME:EDT
DTSTART:20250309T070000
END:DAYLIGHT
BEGIN:STANDARD
TZOFFSETFROM:-0400
TZOFFSETTO:-0500
TZNAME:EST
DTSTART:20251102T060000
END:STANDARD
END:VTIMEZONE
BEGIN:VEVENT
DTSTART;TZID=America/Detroit:20240223T183000
DTEND;TZID=America/Detroit:20240225T123000
DTSTAMP:20260424T103458
CREATED:20230926T113400Z
LAST-MODIFIED:20240227T062314Z
UID:5206-1708713000-1708864200@www.manresa-sj.org
SUMMARY:Jesuit Alumni Retreat* for Men & Women
DESCRIPTION:We’re bringing together alumni from Ignatian high schools\, colleges and retreats for a weekend retreat designed to refresh and renew your Ignatian spirituality. Directed by Fr. Steve Hurd\, SJ\, Fr. Fran Daly\, SJ and Fr. Trevor Rainwater\, SJ\, the weekend includes daily presentations\, discussions and time on your own to pray\, reflect and hear what God may be saying to you through the silence. Walk the nature trail or enjoy a cozy spot in front of the fireplace. Enjoy the solitude of your own room and savor delicious meals with old friends. This is a weekend you won’t want to miss. \n*This retreat is not restricted to Jesuit Alumni. All men and women are welcome.
URL:https://www.manresa-sj.org/event/jesuit-alumni-retreat-for-men-women/
LOCATION:Manresa Jesuit Retreat House\, 1390 Quarton Road\, Bloomfield Hills\, MI\, 48304\, United States
CATEGORIES:Retreats
ATTACH;FMTTYPE=image/jpeg:https://www.manresa-sj.org/wp-content/uploads/2023/08/120624-St.-Francis-Xavier-SJ.jpg
END:VEVENT
END:VCALENDAR