BEGIN:VCALENDAR
VERSION:2.0
PRODID:-//Manresa Jesuit Retreat House - ECPv6.15.20//NONSGML v1.0//EN
CALSCALE:GREGORIAN
METHOD:PUBLISH
X-WR-CALNAME:Manresa Jesuit Retreat House
X-ORIGINAL-URL:https://www.manresa-sj.org
X-WR-CALDESC:Events for Manresa Jesuit Retreat House
REFRESH-INTERVAL;VALUE=DURATION:PT1H
X-Robots-Tag:noindex
X-PUBLISHED-TTL:PT1H
BEGIN:VTIMEZONE
TZID:America/Detroit
BEGIN:DAYLIGHT
TZOFFSETFROM:-0500
TZOFFSETTO:-0400
TZNAME:EDT
DTSTART:20230312T070000
END:DAYLIGHT
BEGIN:STANDARD
TZOFFSETFROM:-0400
TZOFFSETTO:-0500
TZNAME:EST
DTSTART:20231105T060000
END:STANDARD
BEGIN:DAYLIGHT
TZOFFSETFROM:-0500
TZOFFSETTO:-0400
TZNAME:EDT
DTSTART:20240310T070000
END:DAYLIGHT
BEGIN:STANDARD
TZOFFSETFROM:-0400
TZOFFSETTO:-0500
TZNAME:EST
DTSTART:20241103T060000
END:STANDARD
BEGIN:DAYLIGHT
TZOFFSETFROM:-0500
TZOFFSETTO:-0400
TZNAME:EDT
DTSTART:20250309T070000
END:DAYLIGHT
BEGIN:STANDARD
TZOFFSETFROM:-0400
TZOFFSETTO:-0500
TZNAME:EST
DTSTART:20251102T060000
END:STANDARD
END:VTIMEZONE
BEGIN:VEVENT
DTSTART;TZID=America/Detroit:20240308T183000
DTEND;TZID=America/Detroit:20240310T123000
DTSTAMP:20260424T103827
CREATED:20230829T110929Z
LAST-MODIFIED:20240209T140608Z
UID:4517-1709922600-1710073800@www.manresa-sj.org
SUMMARY:Weekend Retreat for Men & Women
DESCRIPTION:Silent retreat for men and women in the tradition of St. Ignatius of Loyola and under the patronage of St. Nicholas Owen\, SJ. Director: Fr. Damian Torres-Botell\, SJ. Groups: Reuter; St. Alan; St. Anastasia \nYou do not have to be a member of the parish or group in order to attend this retreat. All men and women are welcome. For more information\, contact a captain: John Kook—586-772-4343\, Paul Maguire—248-879-2848\, Keith Schrag—810-344-2145
URL:https://www.manresa-sj.org/event/weekend-retreat-for-men-women-2/
LOCATION:Manresa Jesuit Retreat House\, 1390 Quarton Road\, Bloomfield Hills\, MI\, 48304\, United States
CATEGORIES:Retreats
ATTACH;FMTTYPE=image/jpeg:https://www.manresa-sj.org/wp-content/uploads/2023/08/030824-St.-Nicholas-Owen-SJ.jpg
END:VEVENT
END:VCALENDAR