BEGIN:VCALENDAR
VERSION:2.0
PRODID:-//Manresa Jesuit Retreat House - ECPv6.15.20//NONSGML v1.0//EN
CALSCALE:GREGORIAN
METHOD:PUBLISH
X-WR-CALNAME:Manresa Jesuit Retreat House
X-ORIGINAL-URL:https://www.manresa-sj.org
X-WR-CALDESC:Events for Manresa Jesuit Retreat House
REFRESH-INTERVAL;VALUE=DURATION:PT1H
X-Robots-Tag:noindex
X-PUBLISHED-TTL:PT1H
BEGIN:VTIMEZONE
TZID:America/Detroit
BEGIN:DAYLIGHT
TZOFFSETFROM:-0500
TZOFFSETTO:-0400
TZNAME:EDT
DTSTART:20230312T070000
END:DAYLIGHT
BEGIN:STANDARD
TZOFFSETFROM:-0400
TZOFFSETTO:-0500
TZNAME:EST
DTSTART:20231105T060000
END:STANDARD
BEGIN:DAYLIGHT
TZOFFSETFROM:-0500
TZOFFSETTO:-0400
TZNAME:EDT
DTSTART:20240310T070000
END:DAYLIGHT
BEGIN:STANDARD
TZOFFSETFROM:-0400
TZOFFSETTO:-0500
TZNAME:EST
DTSTART:20241103T060000
END:STANDARD
BEGIN:DAYLIGHT
TZOFFSETFROM:-0500
TZOFFSETTO:-0400
TZNAME:EDT
DTSTART:20250309T070000
END:DAYLIGHT
BEGIN:STANDARD
TZOFFSETFROM:-0400
TZOFFSETTO:-0500
TZNAME:EST
DTSTART:20251102T060000
END:STANDARD
END:VTIMEZONE
BEGIN:VEVENT
DTSTART;TZID=America/Detroit:20240311T100000
DTEND;TZID=America/Detroit:20240311T111500
DTSTAMP:20260424T103513
CREATED:20230829T111120Z
LAST-MODIFIED:20240105T214112Z
UID:4522-1710151200-1710155700@www.manresa-sj.org
SUMMARY:Lectio Prayer Group
DESCRIPTION:Jan. 8 | Feb. 12 | Mar. 11 | Apr. 8 | May 13 | June 10\, 2024 \nEngaging with the Living Word of God \nDo you desire a more conversational relationship with God? Are you curious about how to more readily encounter Christ in our world? If so\, consider participating in Manresa’s Lectio Prayer Group. \nLectio divina is rooted in Scripture\, the living Word of God. By reading the Word\, listening and considering how God is speaking to you in daily life\, you can grow in finding God in all things. This is a practice that helps you to discern your journey toward God. \nFacilitators: Paula Dow and Kay Dodson completed Manresa’s Internship in Ignatian Spirituality. They are both experienced in leading lectio divina. \n*Registered participants will receive an email reminder prior to each meeting with a Zoom link to connect to the meeting. \nOnline registration is closed. Please call the front office at 248-644-4933 Ext. 0.
URL:https://www.manresa-sj.org/event/lectio-prayer-group-8/
LOCATION:Manresa Jesuit Retreat House\, 1390 Quarton Road\, Bloomfield Hills\, MI\, 48304\, United States
CATEGORIES:Programs
ATTACH;FMTTYPE=image/jpeg:https://www.manresa-sj.org/wp-content/uploads/2023/08/Lectio-Prayer-Group-scaled.jpg
END:VEVENT
BEGIN:VEVENT
DTSTART;TZID=America/Detroit:20240311T170000
DTEND;TZID=America/Detroit:20240311T180000
DTSTAMP:20260424T103513
CREATED:20231027T075415Z
LAST-MODIFIED:20240116T162742Z
UID:5650-1710176400-1710180000@www.manresa-sj.org
SUMMARY:Christian Yoga for body\, mind & spirit - Winter 2024
DESCRIPTION:Jan. 8\, 15\, 22\, 29 | Feb. 5\, 12\, 19\, 26 | Mar. 4\, 11\, 2024 \nChristian Yoga is a form of prayer in which we place ourselves on this journey to be present in the moment with God\, with a focus on breath. As we move through postures accompanied by meditative quiet and prayer\, we find balance\, strength and union of our whole self with God. In the end\, this brings us to our quiet center to be still with God and to know His peace. Join us for this healthy\, healing practice in an atmosphere of prayer and meditation. \nInstructor: Mary Gresens is a graduate of Manresa’s Internship in Spiritual Companionship\, certified yoga instructor and first degree black belt Nia teacher. \n*Zoom instructions will be emailed to registered participants prior to each session. \nOnline registration is closed. Please call the front office at 248-644-4933 Ext. 0.
URL:https://www.manresa-sj.org/event/christian-yoga-for-body-mind-spirit-23/
LOCATION:Manresa Jesuit Retreat House\, 1390 Quarton Road\, Bloomfield Hills\, MI\, 48304\, United States
CATEGORIES:Programs
ATTACH;FMTTYPE=image/jpeg:https://www.manresa-sj.org/wp-content/uploads/2020/03/rocks-2.jpg
END:VEVENT
END:VCALENDAR