BEGIN:VCALENDAR
VERSION:2.0
PRODID:-//Manresa Jesuit Retreat House - ECPv6.15.20//NONSGML v1.0//EN
CALSCALE:GREGORIAN
METHOD:PUBLISH
X-ORIGINAL-URL:https://www.manresa-sj.org
X-WR-CALDESC:Events for Manresa Jesuit Retreat House
REFRESH-INTERVAL;VALUE=DURATION:PT1H
X-Robots-Tag:noindex
X-PUBLISHED-TTL:PT1H
BEGIN:VTIMEZONE
TZID:America/Detroit
BEGIN:DAYLIGHT
TZOFFSETFROM:-0500
TZOFFSETTO:-0400
TZNAME:EDT
DTSTART:20230312T070000
END:DAYLIGHT
BEGIN:STANDARD
TZOFFSETFROM:-0400
TZOFFSETTO:-0500
TZNAME:EST
DTSTART:20231105T060000
END:STANDARD
BEGIN:DAYLIGHT
TZOFFSETFROM:-0500
TZOFFSETTO:-0400
TZNAME:EDT
DTSTART:20240310T070000
END:DAYLIGHT
BEGIN:STANDARD
TZOFFSETFROM:-0400
TZOFFSETTO:-0500
TZNAME:EST
DTSTART:20241103T060000
END:STANDARD
BEGIN:DAYLIGHT
TZOFFSETFROM:-0500
TZOFFSETTO:-0400
TZNAME:EDT
DTSTART:20250309T070000
END:DAYLIGHT
BEGIN:STANDARD
TZOFFSETFROM:-0400
TZOFFSETTO:-0500
TZNAME:EST
DTSTART:20251102T060000
END:STANDARD
END:VTIMEZONE
BEGIN:VEVENT
DTSTART;TZID=America/Detroit:20240315T183000
DTEND;TZID=America/Detroit:20240317T123000
DTSTAMP:20260424T103630
CREATED:20230829T113942Z
LAST-MODIFIED:20240209T141246Z
UID:4524-1710527400-1710678600@www.manresa-sj.org
SUMMARY:Weekend Retreat for Men
DESCRIPTION:Silent retreat for men in the tradition of St. Ignatius of Loyola and under the patronage of St. Andrew Bobola\, SJ. Director: Fr. Bob Ytsen\, SJ. Groups: Mother of God; St. Irenaeus\, Rochester; U of D High Alumni \nYou do not have to be a member of the parish or group in order to attend this retreat. All men are welcome. For more information\, contact a captain: Glen Steyer—248-464-3447\, Andrew Kassab—248-210-8229\, Dave Nona—248-521-0977\, Athir Battah—248-320-9008\, James Klauke — 517-403-8767.
URL:https://www.manresa-sj.org/event/weekend-retreat-for-men-4/
LOCATION:Manresa Jesuit Retreat House\, 1390 Quarton Road\, Bloomfield Hills\, MI\, 48304\, United States
CATEGORIES:Retreats
ATTACH;FMTTYPE=image/jpeg:https://www.manresa-sj.org/wp-content/uploads/2023/08/031524-St.-Andrew-Bobola-SJ.jpg
END:VEVENT
END:VCALENDAR