BEGIN:VCALENDAR
VERSION:2.0
PRODID:-//Manresa Jesuit Retreat House - ECPv6.15.20//NONSGML v1.0//EN
CALSCALE:GREGORIAN
METHOD:PUBLISH
X-WR-CALNAME:Manresa Jesuit Retreat House
X-ORIGINAL-URL:https://www.manresa-sj.org
X-WR-CALDESC:Events for Manresa Jesuit Retreat House
REFRESH-INTERVAL;VALUE=DURATION:PT1H
X-Robots-Tag:noindex
X-PUBLISHED-TTL:PT1H
BEGIN:VTIMEZONE
TZID:America/Detroit
BEGIN:DAYLIGHT
TZOFFSETFROM:-0500
TZOFFSETTO:-0400
TZNAME:EDT
DTSTART:20230312T070000
END:DAYLIGHT
BEGIN:STANDARD
TZOFFSETFROM:-0400
TZOFFSETTO:-0500
TZNAME:EST
DTSTART:20231105T060000
END:STANDARD
BEGIN:DAYLIGHT
TZOFFSETFROM:-0500
TZOFFSETTO:-0400
TZNAME:EDT
DTSTART:20240310T070000
END:DAYLIGHT
BEGIN:STANDARD
TZOFFSETFROM:-0400
TZOFFSETTO:-0500
TZNAME:EST
DTSTART:20241103T060000
END:STANDARD
BEGIN:DAYLIGHT
TZOFFSETFROM:-0500
TZOFFSETTO:-0400
TZNAME:EDT
DTSTART:20250309T070000
END:DAYLIGHT
BEGIN:STANDARD
TZOFFSETFROM:-0400
TZOFFSETTO:-0500
TZNAME:EST
DTSTART:20251102T060000
END:STANDARD
END:VTIMEZONE
BEGIN:VEVENT
DTSTART;TZID=America/Detroit:20240328T183000
DTEND;TZID=America/Detroit:20240330T123000
DTSTAMP:20260424T103812
CREATED:20230829T114949Z
LAST-MODIFIED:20240227T145938Z
UID:4536-1711650600-1711801800@www.manresa-sj.org
SUMMARY:Holy Week Weekend Retreat for Men & Women
DESCRIPTION:Silent retreat for men and women in the tradition of St. Ignatius of Loyola and under the patronage of Fr. Pierre Teilhard de Chardin\, SJ. Director: Fr. Peter Fennessy\, SJ. \nAll men and women are welcome. For more information\, contact a captain: Stephen Dunn—248-643-8130\, Michael S. Green—517-719-5511\, Thomas P Howe—248-229-4370\, Harry C Veryser—586-703-2994.
URL:https://www.manresa-sj.org/event/holy-week-weekend-retreat-for-men-women-th-sa/
LOCATION:Manresa Jesuit Retreat House\, 1390 Quarton Road\, Bloomfield Hills\, MI\, 48304\, United States
CATEGORIES:Retreats
ATTACH;FMTTYPE=image/jpeg:https://www.manresa-sj.org/wp-content/uploads/2023/08/032824-Fr.-Teilhard-de-Chardin-SJ.jpg
END:VEVENT
END:VCALENDAR