BEGIN:VCALENDAR
VERSION:2.0
PRODID:-//Manresa Jesuit Retreat House - ECPv6.15.20//NONSGML v1.0//EN
CALSCALE:GREGORIAN
METHOD:PUBLISH
X-ORIGINAL-URL:https://www.manresa-sj.org
X-WR-CALDESC:Events for Manresa Jesuit Retreat House
REFRESH-INTERVAL;VALUE=DURATION:PT1H
X-Robots-Tag:noindex
X-PUBLISHED-TTL:PT1H
BEGIN:VTIMEZONE
TZID:America/Detroit
BEGIN:DAYLIGHT
TZOFFSETFROM:-0500
TZOFFSETTO:-0400
TZNAME:EDT
DTSTART:20230312T070000
END:DAYLIGHT
BEGIN:STANDARD
TZOFFSETFROM:-0400
TZOFFSETTO:-0500
TZNAME:EST
DTSTART:20231105T060000
END:STANDARD
BEGIN:DAYLIGHT
TZOFFSETFROM:-0500
TZOFFSETTO:-0400
TZNAME:EDT
DTSTART:20240310T070000
END:DAYLIGHT
BEGIN:STANDARD
TZOFFSETFROM:-0400
TZOFFSETTO:-0500
TZNAME:EST
DTSTART:20241103T060000
END:STANDARD
BEGIN:DAYLIGHT
TZOFFSETFROM:-0500
TZOFFSETTO:-0400
TZNAME:EDT
DTSTART:20250309T070000
END:DAYLIGHT
BEGIN:STANDARD
TZOFFSETFROM:-0400
TZOFFSETTO:-0500
TZNAME:EST
DTSTART:20251102T060000
END:STANDARD
END:VTIMEZONE
BEGIN:VEVENT
DTSTART;TZID=America/Detroit:20240419T183000
DTEND;TZID=America/Detroit:20240421T123000
DTSTAMP:20260424T073855
CREATED:20230829T121811Z
LAST-MODIFIED:20240202T201941Z
UID:4553-1713551400-1713702600@www.manresa-sj.org
SUMMARY:Weekend Retreat for Men & Women
DESCRIPTION:Silent retreat for men and women in the tradition of St. Ignatius of Loyola and under the patronage of St. Peter Canisius\, SJ. Director: Fr. Robert Scullin\, SJ. Groups: St. Frances Cabrini; St. Hugo. \nYou do not have to be a member of the parish or group in order to attend this retreat. All men are welcome. For more information\, contact a captain: Frank Krzesowik—734-552-3309\, Kenneth Thelen 248-766-2553—Brian Thelen 248-529-3392.
URL:https://www.manresa-sj.org/event/weekend-retreat-for-men-women-3/
LOCATION:Manresa Jesuit Retreat House\, 1390 Quarton Road\, Bloomfield Hills\, MI\, 48304\, United States
CATEGORIES:Retreats
ATTACH;FMTTYPE=image/jpeg:https://www.manresa-sj.org/wp-content/uploads/2023/08/041924-St.-Peter-Canisius-SJ.jpg
END:VEVENT
BEGIN:VEVENT
DTSTART;TZID=America/Detroit:20240421T133000
DTEND;TZID=America/Detroit:20240421T170000
DTSTAMP:20260424T073855
CREATED:20231027T091306Z
LAST-MODIFIED:20231027T091306Z
UID:5780-1713706200-1713718800@www.manresa-sj.org
SUMMARY:Domingo de oración contemplativa guiada
DESCRIPTION:18 de febrero 2024 ­– Contemplación de Cuaresma\n21 de abril 2024 – Meditación Cristiana\, un camino interior\n19 de mayo 2024 – Contemplación de primavera \nEn la tradición Ignaciana\, orar con la imaginación se llama contemplación. En los Ejercicios Espirituales de Ignacio de Loyola\, la contemplación es una forma activa de oración que involucra la mente y el corazón y suscita pensamientos y emociones. \nTe invitamos los domingos por la tarde a experimentar la oración contemplativa guiada en español. En cada sesión tendrás un tiempo de reflexión  en silencio y un espacio para compartir. Cada sesión será guiada por un acompañante espiritual con experiencia en la tradición espiritual Ignaciana. \nPara registrarse\, envíe un correo electrónico a ignacianosdemanresa@gmail.com o al teléfono 248.385.3537.
URL:https://www.manresa-sj.org/event/domingo-de-oracion-contemplativa-guiada-2/
LOCATION:Manresa Jesuit Retreat House\, 1390 Quarton Road\, Bloomfield Hills\, MI\, 48304\, United States
CATEGORIES:Programs
ATTACH;FMTTYPE=image/jpeg:https://www.manresa-sj.org/wp-content/uploads/2020/03/sunrise.jpg
END:VEVENT
END:VCALENDAR