BEGIN:VCALENDAR
VERSION:2.0
PRODID:-//Manresa Jesuit Retreat House - ECPv6.15.20//NONSGML v1.0//EN
CALSCALE:GREGORIAN
METHOD:PUBLISH
X-WR-CALNAME:Manresa Jesuit Retreat House
X-ORIGINAL-URL:https://www.manresa-sj.org
X-WR-CALDESC:Events for Manresa Jesuit Retreat House
REFRESH-INTERVAL;VALUE=DURATION:PT1H
X-Robots-Tag:noindex
X-PUBLISHED-TTL:PT1H
BEGIN:VTIMEZONE
TZID:America/Detroit
BEGIN:DAYLIGHT
TZOFFSETFROM:-0500
TZOFFSETTO:-0400
TZNAME:EDT
DTSTART:20230312T070000
END:DAYLIGHT
BEGIN:STANDARD
TZOFFSETFROM:-0400
TZOFFSETTO:-0500
TZNAME:EST
DTSTART:20231105T060000
END:STANDARD
BEGIN:DAYLIGHT
TZOFFSETFROM:-0500
TZOFFSETTO:-0400
TZNAME:EDT
DTSTART:20240310T070000
END:DAYLIGHT
BEGIN:STANDARD
TZOFFSETFROM:-0400
TZOFFSETTO:-0500
TZNAME:EST
DTSTART:20241103T060000
END:STANDARD
BEGIN:DAYLIGHT
TZOFFSETFROM:-0500
TZOFFSETTO:-0400
TZNAME:EDT
DTSTART:20250309T070000
END:DAYLIGHT
BEGIN:STANDARD
TZOFFSETFROM:-0400
TZOFFSETTO:-0500
TZNAME:EST
DTSTART:20251102T060000
END:STANDARD
END:VTIMEZONE
BEGIN:VEVENT
DTSTART;TZID=America/Detroit:20240503T193000
DTEND;TZID=America/Detroit:20240505T130000
DTSTAMP:20260422T213328
CREATED:20230829T122642Z
LAST-MODIFIED:20240227T150353Z
UID:4570-1714764600-1714914000@www.manresa-sj.org
SUMMARY:Christian Meditation Retreat for Men & Women
DESCRIPTION:The Christian Meditation Retreat offers the experience of meditation\, the opportunity to better understand our growth in the Christ-life and instruction on how meditation helps us be transformed in Christ. \nTalks will draw upon the Scriptures and the specific form of the mantra prayer taught by Fr. John Main\, OSB\, founder of the World Community of Christian Meditation\, Fr. Lawrence Freeman\, OSB and Fr. Anthony de Mello\, SJ. The practice\, rather than the teachings\, will be emphasized. \nPatron: Fr. Robert de Nobili\, SJ. Retreat Directors: Fr. Leo Cachat\, SJ\, DiAnne Patterson Schultz\, Mary Gresens. \nPlease wear loose clothing\, bring a pillow if you plan to sit on the floor and a yoga mat if you plan to join one of the Christian yoga sessions. Be prepared to spend time privately—sitting or walking the grounds or praying at the Labyrinth or Stations of the Cross—and in group meditation.
URL:https://www.manresa-sj.org/event/christian-meditation-retreat-for-men-women/
LOCATION:Manresa Jesuit Retreat House\, 1390 Quarton Road\, Bloomfield Hills\, MI\, 48304\, United States
CATEGORIES:Retreats
ATTACH;FMTTYPE=image/jpeg:https://www.manresa-sj.org/wp-content/uploads/2023/08/050324-Fr.-Robert-de-Nobili-SJ.jpg
END:VEVENT
END:VCALENDAR