BEGIN:VCALENDAR
VERSION:2.0
PRODID:-//Manresa Jesuit Retreat House - ECPv6.15.20//NONSGML v1.0//EN
CALSCALE:GREGORIAN
METHOD:PUBLISH
X-ORIGINAL-URL:https://www.manresa-sj.org
X-WR-CALDESC:Events for Manresa Jesuit Retreat House
REFRESH-INTERVAL;VALUE=DURATION:PT1H
X-Robots-Tag:noindex
X-PUBLISHED-TTL:PT1H
BEGIN:VTIMEZONE
TZID:America/Detroit
BEGIN:DAYLIGHT
TZOFFSETFROM:-0500
TZOFFSETTO:-0400
TZNAME:EDT
DTSTART:20230312T070000
END:DAYLIGHT
BEGIN:STANDARD
TZOFFSETFROM:-0400
TZOFFSETTO:-0500
TZNAME:EST
DTSTART:20231105T060000
END:STANDARD
BEGIN:DAYLIGHT
TZOFFSETFROM:-0500
TZOFFSETTO:-0400
TZNAME:EDT
DTSTART:20240310T070000
END:DAYLIGHT
BEGIN:STANDARD
TZOFFSETFROM:-0400
TZOFFSETTO:-0500
TZNAME:EST
DTSTART:20241103T060000
END:STANDARD
BEGIN:DAYLIGHT
TZOFFSETFROM:-0500
TZOFFSETTO:-0400
TZNAME:EDT
DTSTART:20250309T070000
END:DAYLIGHT
BEGIN:STANDARD
TZOFFSETFROM:-0400
TZOFFSETTO:-0500
TZNAME:EST
DTSTART:20251102T060000
END:STANDARD
END:VTIMEZONE
BEGIN:VEVENT
DTSTART;TZID=America/Detroit:20240506T170000
DTEND;TZID=America/Detroit:20240506T180000
DTSTAMP:20260422T021328
CREATED:20231027T102119Z
LAST-MODIFIED:20240116T162458Z
UID:5856-1715014800-1715018400@www.manresa-sj.org
SUMMARY:Christian Yoga for body\, mind & spirit - Spring 2024
DESCRIPTION:Spring 2024 – Mar. 18\, 25 | Apr. 1\, 8\, 15\, 22 | May 6\, 13\, 20\, 2024 \nChristian Yoga is a form of prayer in which we place ourselves on this journey to be present in the moment with God\, with a focus on breath. As we move through postures accompanied by meditative quiet and prayer\, we find balance\, strength and union of our whole self with God. In the end\, this brings us to our quiet center to be still with God and to know His peace. Join us for this healthy\, healing practice in an atmosphere of prayer and meditation. \nInstructor: Mary Gresens is a graduate of Manresa’s Internship in Spiritual Companionship\, certified yoga instructor and first degree black belt Nia teacher. \n*Zoom instructions will be emailed to registered participants prior to each session.
URL:https://www.manresa-sj.org/event/christian-yoga-for-body-mind-spirit-30/
LOCATION:Manresa Jesuit Retreat House\, 1390 Quarton Road\, Bloomfield Hills\, MI\, 48304\, United States
CATEGORIES:Programs
ATTACH;FMTTYPE=image/jpeg:https://www.manresa-sj.org/wp-content/uploads/2020/03/rocks-2.jpg
END:VEVENT
END:VCALENDAR