BEGIN:VCALENDAR
VERSION:2.0
PRODID:-//Manresa Jesuit Retreat House - ECPv6.15.20//NONSGML v1.0//EN
CALSCALE:GREGORIAN
METHOD:PUBLISH
X-WR-CALNAME:Manresa Jesuit Retreat House
X-ORIGINAL-URL:https://www.manresa-sj.org
X-WR-CALDESC:Events for Manresa Jesuit Retreat House
REFRESH-INTERVAL;VALUE=DURATION:PT1H
X-Robots-Tag:noindex
X-PUBLISHED-TTL:PT1H
BEGIN:VTIMEZONE
TZID:America/Detroit
BEGIN:DAYLIGHT
TZOFFSETFROM:-0500
TZOFFSETTO:-0400
TZNAME:EDT
DTSTART:20230312T070000
END:DAYLIGHT
BEGIN:STANDARD
TZOFFSETFROM:-0400
TZOFFSETTO:-0500
TZNAME:EST
DTSTART:20231105T060000
END:STANDARD
BEGIN:DAYLIGHT
TZOFFSETFROM:-0500
TZOFFSETTO:-0400
TZNAME:EDT
DTSTART:20240310T070000
END:DAYLIGHT
BEGIN:STANDARD
TZOFFSETFROM:-0400
TZOFFSETTO:-0500
TZNAME:EST
DTSTART:20241103T060000
END:STANDARD
BEGIN:DAYLIGHT
TZOFFSETFROM:-0500
TZOFFSETTO:-0400
TZNAME:EDT
DTSTART:20250309T070000
END:DAYLIGHT
BEGIN:STANDARD
TZOFFSETFROM:-0400
TZOFFSETTO:-0500
TZNAME:EST
DTSTART:20251102T060000
END:STANDARD
END:VTIMEZONE
BEGIN:VEVENT
DTSTART;TZID=America/Detroit:20241018T183000
DTEND;TZID=America/Detroit:20241020T123000
DTSTAMP:20260424T134120
CREATED:20230829T140623Z
LAST-MODIFIED:20240918T133230Z
UID:4681-1729276200-1729427400@www.manresa-sj.org
SUMMARY:Weekend Retreat for Men
DESCRIPTION:Silent retreat for men in the tradition of St. Ignatius of Loyola \nPatron: St. Alphonsus Rodriguez\, SJ | Retreat Theme: Keeping the End in Mind: Being a Hope-Filled People | Retreat Format: Silence and Optional Sharing | Director: Fr. Daniel Kennedy\, SJ | Groups: Berry; Catholic Lawyers & Physicians; Ford Tractor; St. Vincent de Paul \nYou do not have to be a member of the parish or group to attend this retreat. All men are welcome. For more information\, contact a captain: Patrick Berry-248.866.3774\, Frank Schmid-248.647.0767\, John Sier-248.320.1723\, Keith Soltis-313.580-2553.
URL:https://www.manresa-sj.org/event/weekend-retreat-for-men-10/
LOCATION:Manresa Jesuit Retreat House\, 1390 Quarton Road\, Bloomfield Hills\, MI\, 48304\, United States
CATEGORIES:Retreats
ATTACH;FMTTYPE=image/jpeg:https://www.manresa-sj.org/wp-content/uploads/2020/03/Rodriguez-SJ-St.-Alphonsus.jpg
END:VEVENT
END:VCALENDAR