BEGIN:VCALENDAR
VERSION:2.0
PRODID:-//Manresa Jesuit Retreat House - ECPv6.15.20//NONSGML v1.0//EN
CALSCALE:GREGORIAN
METHOD:PUBLISH
X-ORIGINAL-URL:https://www.manresa-sj.org
X-WR-CALDESC:Events for Manresa Jesuit Retreat House
REFRESH-INTERVAL;VALUE=DURATION:PT1H
X-Robots-Tag:noindex
X-PUBLISHED-TTL:PT1H
BEGIN:VTIMEZONE
TZID:America/Detroit
BEGIN:DAYLIGHT
TZOFFSETFROM:-0500
TZOFFSETTO:-0400
TZNAME:EDT
DTSTART:20240310T070000
END:DAYLIGHT
BEGIN:STANDARD
TZOFFSETFROM:-0400
TZOFFSETTO:-0500
TZNAME:EST
DTSTART:20241103T060000
END:STANDARD
BEGIN:DAYLIGHT
TZOFFSETFROM:-0500
TZOFFSETTO:-0400
TZNAME:EDT
DTSTART:20250309T070000
END:DAYLIGHT
BEGIN:STANDARD
TZOFFSETFROM:-0400
TZOFFSETTO:-0500
TZNAME:EST
DTSTART:20251102T060000
END:STANDARD
BEGIN:DAYLIGHT
TZOFFSETFROM:-0500
TZOFFSETTO:-0400
TZNAME:EDT
DTSTART:20260308T070000
END:DAYLIGHT
BEGIN:STANDARD
TZOFFSETFROM:-0400
TZOFFSETTO:-0500
TZNAME:EST
DTSTART:20261101T060000
END:STANDARD
END:VTIMEZONE
BEGIN:VEVENT
DTSTART;TZID=America/Detroit:20250307T183000
DTEND;TZID=America/Detroit:20250309T123000
DTSTAMP:20260422T175835
CREATED:20240614T125625Z
LAST-MODIFIED:20250327T141620Z
UID:8250-1741372200-1741523400@www.manresa-sj.org
SUMMARY:Weekend Retreat for Men
DESCRIPTION:Silent retreat for men in the tradition of St. Ignatius of Loyola \nPatron: St. Robert Southwell\, SJ  Theme: Hope Springs Forth  Format: Silent & Optional Sharing  Director: Sr. Linda Sevcik\, SM Groups: Notre Dame; Ypsilanti Men; Fr. Bernard J. Wernert\, SJ\n \nYou do not have to be a member of the groups listed above to attend this retreat. All men are welcome. For more information\, contact a captain: Louis Bosco-248.683.4266\, Roberto Castillo-734.470.6173\, Brian Condit-248.792.2171\, Robert Johnson-734.417.2309\, Peter Kotula-313.823.0907\, James Mann-734.909.7096\, Mark Millage-734.644.6989.
URL:https://www.manresa-sj.org/event/weekend-retreat-for-men-16/
LOCATION:Manresa Jesuit Retreat House\, 1390 Quarton Road\, Bloomfield Hills\, MI\, 48304\, United States
CATEGORIES:Retreats
ATTACH;FMTTYPE=image/jpeg:https://www.manresa-sj.org/wp-content/uploads/2020/03/Southwell-SJ-St.-Robert.jpg
END:VEVENT
END:VCALENDAR