BEGIN:VCALENDAR
VERSION:2.0
PRODID:-//Manresa Jesuit Retreat House - ECPv6.15.20//NONSGML v1.0//EN
CALSCALE:GREGORIAN
METHOD:PUBLISH
X-ORIGINAL-URL:https://www.manresa-sj.org
X-WR-CALDESC:Events for Manresa Jesuit Retreat House
REFRESH-INTERVAL;VALUE=DURATION:PT1H
X-Robots-Tag:noindex
X-PUBLISHED-TTL:PT1H
BEGIN:VTIMEZONE
TZID:America/Detroit
BEGIN:DAYLIGHT
TZOFFSETFROM:-0500
TZOFFSETTO:-0400
TZNAME:EDT
DTSTART:20240310T070000
END:DAYLIGHT
BEGIN:STANDARD
TZOFFSETFROM:-0400
TZOFFSETTO:-0500
TZNAME:EST
DTSTART:20241103T060000
END:STANDARD
BEGIN:DAYLIGHT
TZOFFSETFROM:-0500
TZOFFSETTO:-0400
TZNAME:EDT
DTSTART:20250309T070000
END:DAYLIGHT
BEGIN:STANDARD
TZOFFSETFROM:-0400
TZOFFSETTO:-0500
TZNAME:EST
DTSTART:20251102T060000
END:STANDARD
BEGIN:DAYLIGHT
TZOFFSETFROM:-0500
TZOFFSETTO:-0400
TZNAME:EDT
DTSTART:20260308T070000
END:DAYLIGHT
BEGIN:STANDARD
TZOFFSETFROM:-0400
TZOFFSETTO:-0500
TZNAME:EST
DTSTART:20261101T060000
END:STANDARD
END:VTIMEZONE
BEGIN:VEVENT
DTSTART;TZID=America/Detroit:20250501T170000
DTEND;TZID=America/Detroit:20250501T210000
DTSTAMP:20260421T103133
CREATED:20250310T011056Z
LAST-MODIFIED:20250423T002338Z
UID:10799-1746118800-1746133200@www.manresa-sj.org
SUMMARY:Spirit of Manresa Banquet 2025
DESCRIPTION:Join us as we celebrate the Mission and Ministry of Manresa Jesuit Retreat House. \nThursday\, May 1\, 2025 | Cocktails 5:00 PM – Program 6:00 PM \nThe Mint At Michigan First Conference Center | 27000 Evergreen Rd\, Lathrup Village\, MI 48076 (NE Corner of I-696 & Evergreen) \nKeynote Address: “Hope Does Not Disappoint” by V. Rev. Karl J. Kiser\, SJ | Provincial\, USA Midwest Province \nBanquet Tickets: $150 per person | 50/50 Raffle $50 per ticket—Buy 2\, Get 1 FREE Need not be present to win. \nOnline registration is closed. Please call the front office at 248-644-4933 Ext. 0.
URL:https://www.manresa-sj.org/event/spirit-of-manresa-banquet/
LOCATION:The Mint At Michigan First Conference Center\, 27000 Evergreen Rd\, Lathrup Village\, MI\, 48076\, United States
CATEGORIES:Programs
ATTACH;FMTTYPE=image/jpeg:https://www.manresa-sj.org/wp-content/uploads/2020/03/DCP_1987-brighter.jpg
END:VEVENT
END:VCALENDAR