BEGIN:VCALENDAR
VERSION:2.0
PRODID:-//Manresa Jesuit Retreat House - ECPv6.15.20//NONSGML v1.0//EN
CALSCALE:GREGORIAN
METHOD:PUBLISH
X-WR-CALNAME:Manresa Jesuit Retreat House
X-ORIGINAL-URL:https://www.manresa-sj.org
X-WR-CALDESC:Events for Manresa Jesuit Retreat House
REFRESH-INTERVAL;VALUE=DURATION:PT1H
X-Robots-Tag:noindex
X-PUBLISHED-TTL:PT1H
BEGIN:VTIMEZONE
TZID:America/Detroit
BEGIN:DAYLIGHT
TZOFFSETFROM:-0500
TZOFFSETTO:-0400
TZNAME:EDT
DTSTART:20240310T070000
END:DAYLIGHT
BEGIN:STANDARD
TZOFFSETFROM:-0400
TZOFFSETTO:-0500
TZNAME:EST
DTSTART:20241103T060000
END:STANDARD
BEGIN:DAYLIGHT
TZOFFSETFROM:-0500
TZOFFSETTO:-0400
TZNAME:EDT
DTSTART:20250309T070000
END:DAYLIGHT
BEGIN:STANDARD
TZOFFSETFROM:-0400
TZOFFSETTO:-0500
TZNAME:EST
DTSTART:20251102T060000
END:STANDARD
BEGIN:DAYLIGHT
TZOFFSETFROM:-0500
TZOFFSETTO:-0400
TZNAME:EDT
DTSTART:20260308T070000
END:DAYLIGHT
BEGIN:STANDARD
TZOFFSETFROM:-0400
TZOFFSETTO:-0500
TZNAME:EST
DTSTART:20261101T060000
END:STANDARD
END:VTIMEZONE
BEGIN:VEVENT
DTSTART;TZID=America/Detroit:20250921T000000
DTEND;TZID=America/Detroit:20250926T120000
DTSTAMP:20260420T091232
CREATED:20240615T132358Z
LAST-MODIFIED:20250903T134152Z
UID:8335-1758412800-1758888000@www.manresa-sj.org
SUMMARY:Religious Sisters Preached Retreat
DESCRIPTION:The Heart of Discipleship: Answering the Call to Follow Christ \nTo be a disciple of Jesus\, a member of the community of believers\, was central to the gospels and the early life of the Church. Our calling to be Christ’s disciple today is so fundamental to our faith that we sometimes fail to realize its meaning. \nAt its core\, Christian discipleship is about answering the invitation of Jesus to “Come\, follow me” (Matt. 4:19). This invitation is asking for more than an intellectual or emotional response; it is about a transformative journey that touches every sphere of life. Discipleship entails surrendering to the will of God\, aligning one’s values and actions with the teachings of Jesus and striving to live out the gospel message in a world filled with challenges and distractions. \nDuring the days of retreat\, we will explore seven specific features of the call to discipleship: following\, worshiping\, witnessing\, forgiving\, as well as acting as a neighbor\, prophet and steward. Through twice-daily talks\, you will be invited to reflect on Scripture texts that serve as the biblical foundation of discipleship and consider how they illuminate the exercise of discipleship in your own lives. \nPatron: St. Margaret Mary Alacoque | Retreat Theme:  TBD | Retreat Format: Silent with some sharing | Director: Fr. Fran Daly\, SJ and Sr. Kathie Budesky\, IHM | Note: 3:00 PM arrival on Sunday; Ends after lunch on Friday \nRetreat Fee: $450
URL:https://www.manresa-sj.org/event/religious-sisters-preached-retreat/
LOCATION:Manresa Jesuit Retreat House\, 1390 Quarton Road\, Bloomfield Hills\, MI\, 48304\, United States
CATEGORIES:Retreats
ATTACH;FMTTYPE=image/jpeg:https://www.manresa-sj.org/wp-content/uploads/2020/03/Alacoque-St.-Margaret-Mary.jpg
END:VEVENT
BEGIN:VEVENT
DTSTART;TZID=America/Detroit:20250922T183000
DTEND;TZID=America/Detroit:20250922T200000
DTSTAMP:20260420T091232
CREATED:20250704T142425Z
LAST-MODIFIED:20250904T141130Z
UID:11946-1758565800-1758571200@www.manresa-sj.org
SUMMARY:Book Study: The Tears of Things
DESCRIPTION:Sept. 15\, 22\, 29 | Oct. 6\, 13\, 20\, 2025 \nHow do we live compassionately in a time of violence and despair? What can we do with our private disappointments and the anger we feel in such an unjust world? These are the questions we will consider in this six-week discussion group on Richard Rohr’s most personal book yet\, The Tears of Things. \nRohr turns to the writings of the Jewish prophets\, revealing how some of the lesser-read books of the Bible offer us a crucial path forward today. He “synthesizes action and contemplation with greater passion and courage than ever before. By retelling the stories of the Biblical prophets\, Rohr calls upon us all to speak truth in our own times and to speak it with love.” \nFacilitator: Rosemary Insley is a retired chaplain and bereavement counselor with Master’s degrees in Pastoral Studies and Social Work. As a spiritual companion\, she guides others in the Spiritual Exercises and in retreats.
URL:https://www.manresa-sj.org/event/book-study-the-tears-of-things-2/
LOCATION:Manresa Jesuit Retreat House\, 1390 Quarton Road\, Bloomfield Hills\, MI\, 48304\, United States
CATEGORIES:Programs
ATTACH;FMTTYPE=image/jpeg:https://www.manresa-sj.org/wp-content/uploads/2020/03/The-Tears-of-Things-book-cover.jpeg
END:VEVENT
BEGIN:VEVENT
DTSTART;TZID=America/Detroit:20250922T190000
DTEND;TZID=America/Detroit:20250922T200000
DTSTAMP:20260420T091232
CREATED:20250704T160326Z
LAST-MODIFIED:20250904T141223Z
UID:12019-1758567600-1758571200@www.manresa-sj.org
SUMMARY:Christian Yoga for body\, mind & spirit
DESCRIPTION:Sept. 8\, 15\, 22\, 29 | Oct. 6\, 13\, 20\, 27 | Nov. 3\, 10\, 17\, 24\, 2025 \nChristian Yoga is a form of prayer in which we place ourselves on this journey to be present in the moment with God\, with a focus on breath. As we move through postures accompanied by meditative quiet and prayer\, we find balance\, strength and union of our whole self with God. In the end\, this brings us to our quiet center to be still with God and to know His peace. Join us for this healthy\, healing practice in an atmosphere of prayer and meditation. \nInstructor: Mary Gresens is a graduate of Manresa’s Internship in Spiritual Companionship\, certified yoga instructor and first degree black belt Nia teacher. \n*Zoom instructions will be emailed to registered participants prior to each session.
URL:https://www.manresa-sj.org/event/christian-yoga-for-body-mind-spirit-35/
LOCATION:MI
CATEGORIES:Programs
ATTACH;FMTTYPE=image/jpeg:https://www.manresa-sj.org/wp-content/uploads/2020/03/rock-stack-crop.jpg
END:VEVENT
END:VCALENDAR