BEGIN:VCALENDAR
VERSION:2.0
PRODID:-//Manresa Jesuit Retreat House - ECPv6.15.20//NONSGML v1.0//EN
CALSCALE:GREGORIAN
METHOD:PUBLISH
X-WR-CALNAME:Manresa Jesuit Retreat House
X-ORIGINAL-URL:https://www.manresa-sj.org
X-WR-CALDESC:Events for Manresa Jesuit Retreat House
REFRESH-INTERVAL;VALUE=DURATION:PT1H
X-Robots-Tag:noindex
X-PUBLISHED-TTL:PT1H
BEGIN:VTIMEZONE
TZID:America/Detroit
BEGIN:DAYLIGHT
TZOFFSETFROM:-0500
TZOFFSETTO:-0400
TZNAME:EDT
DTSTART:20240310T070000
END:DAYLIGHT
BEGIN:STANDARD
TZOFFSETFROM:-0400
TZOFFSETTO:-0500
TZNAME:EST
DTSTART:20241103T060000
END:STANDARD
BEGIN:DAYLIGHT
TZOFFSETFROM:-0500
TZOFFSETTO:-0400
TZNAME:EDT
DTSTART:20250309T070000
END:DAYLIGHT
BEGIN:STANDARD
TZOFFSETFROM:-0400
TZOFFSETTO:-0500
TZNAME:EST
DTSTART:20251102T060000
END:STANDARD
BEGIN:DAYLIGHT
TZOFFSETFROM:-0500
TZOFFSETTO:-0400
TZNAME:EDT
DTSTART:20260308T070000
END:DAYLIGHT
BEGIN:STANDARD
TZOFFSETFROM:-0400
TZOFFSETTO:-0500
TZNAME:EST
DTSTART:20261101T060000
END:STANDARD
END:VTIMEZONE
BEGIN:VEVENT
DTSTART;TZID=America/Detroit:20251009T183000
DTEND;TZID=America/Detroit:20251012T123000
DTSTAMP:20260420T075132
CREATED:20240615T134130Z
LAST-MODIFIED:20250903T135141Z
UID:8347-1760034600-1760272200@www.manresa-sj.org
SUMMARY:4-Day Retreat for Women
DESCRIPTION:Silent retreat for women in the tradition of St. Ignatius of Loyola \nPatron: Blessed Dominic Collins\, SJ |Retreat Theme:  To Know Christ Jesus  | Retreat Format: Silent | Director: Fr. Peter Fennessy\, SJ \nFor more information\, contact a captain: Nancy Cox-734.770.3906\, Patty Gorton-248.505.8135\, Dorothy Strzelewicz-734.856.5018\, Virginia Carey-630.728.9251.
URL:https://www.manresa-sj.org/event/4-day-retreat-for-women/
LOCATION:Manresa Jesuit Retreat House\, 1390 Quarton Road\, Bloomfield Hills\, MI\, 48304\, United States
CATEGORIES:Retreats
ATTACH;FMTTYPE=image/jpeg:https://www.manresa-sj.org/wp-content/uploads/2020/03/Collins-SJ-Blessed-Dominic.jpg
END:VEVENT
BEGIN:VEVENT
DTSTART;TZID=America/Detroit:20251012T140000
DTEND;TZID=America/Detroit:20251012T190000
DTSTAMP:20260420T075132
CREATED:20250720T135527Z
LAST-MODIFIED:20250904T143832Z
UID:12155-1760277600-1760295600@www.manresa-sj.org
SUMMARY:Sunday Afternoon Reflection: God Loved All Creation Into Being
DESCRIPTION:The world is charged with the grandeur of God. It will break out like shining from shook foil. It will spread like the ooze of oil crushed. Why do men then do not reck His rod? \nThe opening lines of Gerard Manley Hopkins’ poem ask a question that all of us are challenged to answer. God loved all creation into being\, and God’s love is revealed in the created world. We can encounter the mystery and majesty of God\, demonstrated in the intricacy and perfect balance of the created world. So why\, then\, don’t we pay attention; why are we not surprised and enriched by all of creation? Reflecting on this may reveal some surprising and unique insights for each of us and may reshape how we encounter God each day. \nJoin us for the afternoon which includes two talks\, time for private prayer/devotion\, Sunday Mass and a delicious meal to round out the day. Your retreat begins at 2:00 PM; however\, you may arrive any time after 1:30 PM for refreshments and fellowship. \nFacilitator: Fr. Bob Ytsen\, SJ\, whose background in Ignatian spirituality and history of the Jesuits\, particularly in England\, enhances and supports his commitment to retreat and spiritual direction at Manresa.
URL:https://www.manresa-sj.org/event/sunday-afternoon-reflection-god-loved-all-creation-into-being/
LOCATION:Manresa Jesuit Retreat House\, 1390 Quarton Road\, Bloomfield Hills\, MI\, 48304\, United States
CATEGORIES:Programs
ATTACH;FMTTYPE=image/png:https://www.manresa-sj.org/wp-content/uploads/2025/07/Screenshot-2025-07-20-at-10.10.39-PM.png
END:VEVENT
END:VCALENDAR