BEGIN:VCALENDAR
VERSION:2.0
PRODID:-//Manresa Jesuit Retreat House - ECPv6.15.20//NONSGML v1.0//EN
CALSCALE:GREGORIAN
METHOD:PUBLISH
X-WR-CALNAME:Manresa Jesuit Retreat House
X-ORIGINAL-URL:https://www.manresa-sj.org
X-WR-CALDESC:Events for Manresa Jesuit Retreat House
REFRESH-INTERVAL;VALUE=DURATION:PT1H
X-Robots-Tag:noindex
X-PUBLISHED-TTL:PT1H
BEGIN:VTIMEZONE
TZID:America/Detroit
BEGIN:DAYLIGHT
TZOFFSETFROM:-0500
TZOFFSETTO:-0400
TZNAME:EDT
DTSTART:20240310T070000
END:DAYLIGHT
BEGIN:STANDARD
TZOFFSETFROM:-0400
TZOFFSETTO:-0500
TZNAME:EST
DTSTART:20241103T060000
END:STANDARD
BEGIN:DAYLIGHT
TZOFFSETFROM:-0500
TZOFFSETTO:-0400
TZNAME:EDT
DTSTART:20250309T070000
END:DAYLIGHT
BEGIN:STANDARD
TZOFFSETFROM:-0400
TZOFFSETTO:-0500
TZNAME:EST
DTSTART:20251102T060000
END:STANDARD
BEGIN:DAYLIGHT
TZOFFSETFROM:-0500
TZOFFSETTO:-0400
TZNAME:EDT
DTSTART:20260308T070000
END:DAYLIGHT
BEGIN:STANDARD
TZOFFSETFROM:-0400
TZOFFSETTO:-0500
TZNAME:EST
DTSTART:20261101T060000
END:STANDARD
END:VTIMEZONE
BEGIN:VEVENT
DTSTART;TZID=America/Detroit:20251022T130000
DTEND;TZID=America/Detroit:20251022T160000
DTSTAMP:20260420T120107
CREATED:20250704T131546Z
LAST-MODIFIED:20251014T211249Z
UID:11896-1761138000-1761148800@www.manresa-sj.org
SUMMARY:Aging Gracefully
DESCRIPTION:Oct. 22\, 2025  | Nov. 12\, 2025 \nFinding Meaning and Purpose for the Later Years of Life \nHave you ever thought of yourself as a ‘vessel of love’? This image speaks to what I envision for the elderhood years…\,” says Joyce Rupp\, author of Vessels of Love. “During this lifetime\, whether we’ve been aware or not\, a Presence of immeasurable love has been flowing through [our lives]\, quietly filling the vessel of our inner being. Like vats of matured wine\, our ripened goodness has readied itself to move outward. . . Now is the efficacious time to tend ‘our tiny vessel’ so this graced goodness strengthens in us and benefits the life of those we encounter.” \nBased on Rupp’s reflections\, poems and prayers on the later years of life\, the program will help you reflect\, grow and embrace this sacred stage of life with peace\, meaning and renewed intention. \nRegistration Fee includes both sessions of this program. \nFacilitator:  Sr. Linda Sevcik\, SM\, serves as Manresa’s Executive Director. Her ministerial experience includes teaching\, professional counseling and retreat and spiritual direction.
URL:https://www.manresa-sj.org/event/aging-gracefully/
LOCATION:MI
CATEGORIES:Programs
ATTACH;FMTTYPE=image/jpeg:https://www.manresa-sj.org/wp-content/uploads/2020/03/vessels.jpg
END:VEVENT
END:VCALENDAR