BEGIN:VCALENDAR
VERSION:2.0
PRODID:-//Manresa Jesuit Retreat House - ECPv6.15.20//NONSGML v1.0//EN
CALSCALE:GREGORIAN
METHOD:PUBLISH
X-WR-CALNAME:Manresa Jesuit Retreat House
X-ORIGINAL-URL:https://www.manresa-sj.org
X-WR-CALDESC:Events for Manresa Jesuit Retreat House
REFRESH-INTERVAL;VALUE=DURATION:PT1H
X-Robots-Tag:noindex
X-PUBLISHED-TTL:PT1H
BEGIN:VTIMEZONE
TZID:America/Detroit
BEGIN:DAYLIGHT
TZOFFSETFROM:-0500
TZOFFSETTO:-0400
TZNAME:EDT
DTSTART:20240310T070000
END:DAYLIGHT
BEGIN:STANDARD
TZOFFSETFROM:-0400
TZOFFSETTO:-0500
TZNAME:EST
DTSTART:20241103T060000
END:STANDARD
BEGIN:DAYLIGHT
TZOFFSETFROM:-0500
TZOFFSETTO:-0400
TZNAME:EDT
DTSTART:20250309T070000
END:DAYLIGHT
BEGIN:STANDARD
TZOFFSETFROM:-0400
TZOFFSETTO:-0500
TZNAME:EST
DTSTART:20251102T060000
END:STANDARD
BEGIN:DAYLIGHT
TZOFFSETFROM:-0500
TZOFFSETTO:-0400
TZNAME:EDT
DTSTART:20260308T070000
END:DAYLIGHT
BEGIN:STANDARD
TZOFFSETFROM:-0400
TZOFFSETTO:-0500
TZNAME:EST
DTSTART:20261101T060000
END:STANDARD
END:VTIMEZONE
BEGIN:VEVENT
DTSTART;TZID=America/Detroit:20251024T183000
DTEND;TZID=America/Detroit:20251026T123000
DTSTAMP:20260420T134147
CREATED:20240615T134741Z
LAST-MODIFIED:20250904T121744Z
UID:8355-1761330600-1761481800@www.manresa-sj.org
SUMMARY:Weekend Retreat for Men
DESCRIPTION:Silent retreat for men in the tradition of St. Ignatius of Loyola \nPatron: St. Stanislaus Kostka\, SJ |Retreat Theme:  Called to be Humble Men of God | Retreat Format: Silent with some sharing | Director: Fr. Dan Dixon\, SJ | Groups: Bodde-Schweihofer; St. Clare of Montefalco; St. Hubert-Mt. Clemens; St. Valerie; Our Lady Star of Sea \nYou do not have to be a member of the parish or group to attend this retreat. All men are welcome. For more information\, contact a captain: Gary Lechner-313.882.5774\, Mark Messina-202.534.8021\, Frank Migliazzo-248.568.7604\, Michael Nelson-586.291.9068\, Charlie Roarty-313.237.3936\, Rick Schweihofer-810.329.2591\, Tom Youngblood-313.600.2005\, Rob Sattler-586.615.3004.
URL:https://www.manresa-sj.org/event/weekend-retreat-for-men-24/
LOCATION:Manresa Jesuit Retreat House\, 1390 Quarton Road\, Bloomfield Hills\, MI\, 48304\, United States
CATEGORIES:Retreats
ATTACH;FMTTYPE=image/jpeg:https://www.manresa-sj.org/wp-content/uploads/2020/03/Kostka-SJ-St.-Stanislaus.jpg
END:VEVENT
END:VCALENDAR