BEGIN:VCALENDAR
VERSION:2.0
PRODID:-//Manresa Jesuit Retreat House - ECPv6.15.20//NONSGML v1.0//EN
CALSCALE:GREGORIAN
METHOD:PUBLISH
X-ORIGINAL-URL:https://www.manresa-sj.org
X-WR-CALDESC:Events for Manresa Jesuit Retreat House
REFRESH-INTERVAL;VALUE=DURATION:PT1H
X-Robots-Tag:noindex
X-PUBLISHED-TTL:PT1H
BEGIN:VTIMEZONE
TZID:America/Detroit
BEGIN:DAYLIGHT
TZOFFSETFROM:-0500
TZOFFSETTO:-0400
TZNAME:EDT
DTSTART:20240310T070000
END:DAYLIGHT
BEGIN:STANDARD
TZOFFSETFROM:-0400
TZOFFSETTO:-0500
TZNAME:EST
DTSTART:20241103T060000
END:STANDARD
BEGIN:DAYLIGHT
TZOFFSETFROM:-0500
TZOFFSETTO:-0400
TZNAME:EDT
DTSTART:20250309T070000
END:DAYLIGHT
BEGIN:STANDARD
TZOFFSETFROM:-0400
TZOFFSETTO:-0500
TZNAME:EST
DTSTART:20251102T060000
END:STANDARD
BEGIN:DAYLIGHT
TZOFFSETFROM:-0500
TZOFFSETTO:-0400
TZNAME:EDT
DTSTART:20260308T070000
END:DAYLIGHT
BEGIN:STANDARD
TZOFFSETFROM:-0400
TZOFFSETTO:-0500
TZNAME:EST
DTSTART:20261101T060000
END:STANDARD
END:VTIMEZONE
BEGIN:VEVENT
DTSTART;TZID=America/Detroit:20251107T183000
DTEND;TZID=America/Detroit:20251109T123000
DTSTAMP:20260420T113619
CREATED:20240615T135423Z
LAST-MODIFIED:20250922T154712Z
UID:8363-1762540200-1762691400@www.manresa-sj.org
SUMMARY:Weekend Retreat for Women
DESCRIPTION:Join us for a weekend retreat that will guide you through the Ignatian spiritual exercises with various meditations on the interior journey of Mary Magdalene\, from her existential restlessness\, to her encounter with the merciful and unconditional love of Christ\, to her call to become the Apostle to the Apostles\, and beyond. \nJourney with Mary Magdalene as she discovers God’s providential hand guiding her toward authentic freedom and love. It is a path to which we are all called\, and it invites a continual response to the loving initiatives of the Lord in our lives. \nPatron: Blessed Miguel Pro\, SJ |Retreat Theme:  Mary Magdalene: The Transforming Journey of a Disciple | Retreat Format: Silent with some sharing | Director: Jennifer Ristine\, CWRC \nFor more information\, contact a captain: Marilyn Pavlov-810.367.3327; Suzanna DeVeny-810.434.3454; Laura Gabriel-248.274.6177.
URL:https://www.manresa-sj.org/event/weekend-retreat-for-women-6/
LOCATION:Manresa Jesuit Retreat House\, 1390 Quarton Road\, Bloomfield Hills\, MI\, 48304\, United States
CATEGORIES:Retreats
ATTACH;FMTTYPE=image/jpeg:https://www.manresa-sj.org/wp-content/uploads/2020/03/Pro-SJ-Blessed-Miguel.jpg
END:VEVENT
END:VCALENDAR