BEGIN:VCALENDAR
VERSION:2.0
PRODID:-//Manresa Jesuit Retreat House - ECPv6.15.20//NONSGML v1.0//EN
CALSCALE:GREGORIAN
METHOD:PUBLISH
X-ORIGINAL-URL:https://www.manresa-sj.org
X-WR-CALDESC:Events for Manresa Jesuit Retreat House
REFRESH-INTERVAL;VALUE=DURATION:PT1H
X-Robots-Tag:noindex
X-PUBLISHED-TTL:PT1H
BEGIN:VTIMEZONE
TZID:America/Detroit
BEGIN:DAYLIGHT
TZOFFSETFROM:-0500
TZOFFSETTO:-0400
TZNAME:EDT
DTSTART:20240310T070000
END:DAYLIGHT
BEGIN:STANDARD
TZOFFSETFROM:-0400
TZOFFSETTO:-0500
TZNAME:EST
DTSTART:20241103T060000
END:STANDARD
BEGIN:DAYLIGHT
TZOFFSETFROM:-0500
TZOFFSETTO:-0400
TZNAME:EDT
DTSTART:20250309T070000
END:DAYLIGHT
BEGIN:STANDARD
TZOFFSETFROM:-0400
TZOFFSETTO:-0500
TZNAME:EST
DTSTART:20251102T060000
END:STANDARD
BEGIN:DAYLIGHT
TZOFFSETFROM:-0500
TZOFFSETTO:-0400
TZNAME:EDT
DTSTART:20260308T070000
END:DAYLIGHT
BEGIN:STANDARD
TZOFFSETFROM:-0400
TZOFFSETTO:-0500
TZNAME:EST
DTSTART:20261101T060000
END:STANDARD
END:VTIMEZONE
BEGIN:VEVENT
DTSTART;TZID=America/Detroit:20251114T183000
DTEND;TZID=America/Detroit:20251116T123000
DTSTAMP:20260420T112930
CREATED:20250627T134957Z
LAST-MODIFIED:20250903T140236Z
UID:11819-1763145000-1763296200@www.manresa-sj.org
SUMMARY:Weekend Retreat for Men and Women
DESCRIPTION:Delve into the remarkable journey of Ignatius of Loyola\, from wounded soldier to mystical founder of the Jesuit order. This retreat weaves together the saint’s biographical story with his profound spiritual teachings\, exploring how his personal struggles and revelations shaped transformative practices still relevant today. Participants will reflect on the themes outlined in St. Ignatius’ biography. \nRetreat Theme:  The Life and Spiritual Insights of St. Ignatius | Retreat Format: Silent  Director: Fr. Steve Hurd\, SJ
URL:https://www.manresa-sj.org/event/weekend-retreat-for-men-and-women-3/
LOCATION:Manresa Jesuit Retreat House\, 1390 Quarton Road\, Bloomfield Hills\, MI\, 48304\, United States
CATEGORIES:Retreats
END:VEVENT
END:VCALENDAR