BEGIN:VCALENDAR
VERSION:2.0
PRODID:-//Manresa Jesuit Retreat House - ECPv6.15.20//NONSGML v1.0//EN
CALSCALE:GREGORIAN
METHOD:PUBLISH
X-ORIGINAL-URL:https://www.manresa-sj.org
X-WR-CALDESC:Events for Manresa Jesuit Retreat House
REFRESH-INTERVAL;VALUE=DURATION:PT1H
X-Robots-Tag:noindex
X-PUBLISHED-TTL:PT1H
BEGIN:VTIMEZONE
TZID:America/Detroit
BEGIN:DAYLIGHT
TZOFFSETFROM:-0500
TZOFFSETTO:-0400
TZNAME:EDT
DTSTART:20240310T070000
END:DAYLIGHT
BEGIN:STANDARD
TZOFFSETFROM:-0400
TZOFFSETTO:-0500
TZNAME:EST
DTSTART:20241103T060000
END:STANDARD
BEGIN:DAYLIGHT
TZOFFSETFROM:-0500
TZOFFSETTO:-0400
TZNAME:EDT
DTSTART:20250309T070000
END:DAYLIGHT
BEGIN:STANDARD
TZOFFSETFROM:-0400
TZOFFSETTO:-0500
TZNAME:EST
DTSTART:20251102T060000
END:STANDARD
BEGIN:DAYLIGHT
TZOFFSETFROM:-0500
TZOFFSETTO:-0400
TZNAME:EDT
DTSTART:20260308T070000
END:DAYLIGHT
BEGIN:STANDARD
TZOFFSETFROM:-0400
TZOFFSETTO:-0500
TZNAME:EST
DTSTART:20261101T060000
END:STANDARD
END:VTIMEZONE
BEGIN:VEVENT
DTSTART;TZID=America/Detroit:20251121T183000
DTEND;TZID=America/Detroit:20251123T123000
DTSTAMP:20260420T130654
CREATED:20240615T135639Z
LAST-MODIFIED:20250903T140338Z
UID:8367-1763749800-1763901000@www.manresa-sj.org
SUMMARY:Weekend Retreat for Women in Recovery
DESCRIPTION:Silent retreat for women in recovery in the tradition of St. Ignatius of Loyola \nPatron: Fr. Edward Dowling\, SJ |Retreat Theme:  Recovery | Retreat Format: Silent | Director: Fr. Steven Spahn\, SJ \nFor more information\, contact a captain: Annette K.-586.201.1487\, Janet G.-586.295.6485 or Shivaun W.-586.457.9264.
URL:https://www.manresa-sj.org/event/weekend-retreat-for-women-in-recovery-4/
LOCATION:Manresa Jesuit Retreat House\, 1390 Quarton Road\, Bloomfield Hills\, MI\, 48304\, United States
CATEGORIES:Retreats
ATTACH;FMTTYPE=image/jpeg:https://www.manresa-sj.org/wp-content/uploads/2020/03/Dowling-SJ-Fr.-Ed.jpg
END:VEVENT
END:VCALENDAR