BEGIN:VCALENDAR
VERSION:2.0
PRODID:-//Manresa Jesuit Retreat House - ECPv6.15.20//NONSGML v1.0//EN
CALSCALE:GREGORIAN
METHOD:PUBLISH
X-ORIGINAL-URL:https://www.manresa-sj.org
X-WR-CALDESC:Events for Manresa Jesuit Retreat House
REFRESH-INTERVAL;VALUE=DURATION:PT1H
X-Robots-Tag:noindex
X-PUBLISHED-TTL:PT1H
BEGIN:VTIMEZONE
TZID:America/Detroit
BEGIN:DAYLIGHT
TZOFFSETFROM:-0500
TZOFFSETTO:-0400
TZNAME:EDT
DTSTART:20250309T070000
END:DAYLIGHT
BEGIN:STANDARD
TZOFFSETFROM:-0400
TZOFFSETTO:-0500
TZNAME:EST
DTSTART:20251102T060000
END:STANDARD
BEGIN:DAYLIGHT
TZOFFSETFROM:-0500
TZOFFSETTO:-0400
TZNAME:EDT
DTSTART:20260308T070000
END:DAYLIGHT
BEGIN:STANDARD
TZOFFSETFROM:-0400
TZOFFSETTO:-0500
TZNAME:EST
DTSTART:20261101T060000
END:STANDARD
BEGIN:DAYLIGHT
TZOFFSETFROM:-0500
TZOFFSETTO:-0400
TZNAME:EDT
DTSTART:20270314T070000
END:DAYLIGHT
BEGIN:STANDARD
TZOFFSETFROM:-0400
TZOFFSETTO:-0500
TZNAME:EST
DTSTART:20271107T060000
END:STANDARD
END:VTIMEZONE
BEGIN:VEVENT
DTSTART;TZID=America/Detroit:20260106T183000
DTEND;TZID=America/Detroit:20260108T123000
DTSTAMP:20260420T174105
CREATED:20250823T131318Z
LAST-MODIFIED:20251226T011622Z
UID:12344-1767724200-1767875400@www.manresa-sj.org
SUMMARY:Midweek Retreat for Women
DESCRIPTION:Silent Retreat for women based on the Spiritual Exercises of St. Ignatius of Loyola. \nPatron: The Archduchess\, Joan of Austria | Retreat Theme: Beholding the Past\, Present  and Future Through the Eyes of Faith | Retreat Format: Silent with optional sharing | Director: Sr. Linda Sevcik\, SM \nFor more information\, call a captain: Betsy Maxwell\, 313.881.3673; Jaimi Kenyon\, 313.598.6465; Peggy Durocher\, 313.595.3495; Valerie Downs\, 313.613.4986; Tracy Mitchell\, 313.600.0996.
URL:https://www.manresa-sj.org/event/midweek-retreat-for-women-2/
LOCATION:Manresa Jesuit Retreat House\, 1390 Quarton Road\, Bloomfield Hills\, MI\, 48304\, United States
CATEGORIES:Retreats
END:VEVENT
END:VCALENDAR