BEGIN:VCALENDAR
VERSION:2.0
PRODID:-//Manresa Jesuit Retreat House - ECPv6.15.20//NONSGML v1.0//EN
CALSCALE:GREGORIAN
METHOD:PUBLISH
X-WR-CALNAME:Manresa Jesuit Retreat House
X-ORIGINAL-URL:https://www.manresa-sj.org
X-WR-CALDESC:Events for Manresa Jesuit Retreat House
REFRESH-INTERVAL;VALUE=DURATION:PT1H
X-Robots-Tag:noindex
X-PUBLISHED-TTL:PT1H
BEGIN:VTIMEZONE
TZID:America/Detroit
BEGIN:DAYLIGHT
TZOFFSETFROM:-0500
TZOFFSETTO:-0400
TZNAME:EDT
DTSTART:20250309T070000
END:DAYLIGHT
BEGIN:STANDARD
TZOFFSETFROM:-0400
TZOFFSETTO:-0500
TZNAME:EST
DTSTART:20251102T060000
END:STANDARD
BEGIN:DAYLIGHT
TZOFFSETFROM:-0500
TZOFFSETTO:-0400
TZNAME:EDT
DTSTART:20260308T070000
END:DAYLIGHT
BEGIN:STANDARD
TZOFFSETFROM:-0400
TZOFFSETTO:-0500
TZNAME:EST
DTSTART:20261101T060000
END:STANDARD
BEGIN:DAYLIGHT
TZOFFSETFROM:-0500
TZOFFSETTO:-0400
TZNAME:EDT
DTSTART:20270314T070000
END:DAYLIGHT
BEGIN:STANDARD
TZOFFSETFROM:-0400
TZOFFSETTO:-0500
TZNAME:EST
DTSTART:20271107T060000
END:STANDARD
END:VTIMEZONE
BEGIN:VEVENT
DTSTART;TZID=America/Detroit:20260213T183000
DTEND;TZID=America/Detroit:20260215T123000
DTSTAMP:20260422T135453
CREATED:20250823T134707Z
LAST-MODIFIED:20260122T204006Z
UID:12368-1771007400-1771158600@www.manresa-sj.org
SUMMARY:Weekend Retreat for Women
DESCRIPTION:Silent Retreat for women based on the Spiritual Exercises of St. Ignatius of Loyola. \nPatron: St. John de Brito\, SJ | Retreat Theme: Living the Life of the Kingdom of God | Retreat Format: Silence | Director:  Fr. Robert Flack\, SJ \nFor more information\, call a captain: Dalia Dimock\, 248.722.1991; Michalyn Gret\, 586.549.4811; Laura Gutman\, 586.876.8959; Gerry Schihl\, 586.610.1911; Sabine Ashman\, 586.291.8803
URL:https://www.manresa-sj.org/event/weekend-retreat-for-women-7/
LOCATION:Manresa Jesuit Retreat House\, 1390 Quarton Road\, Bloomfield Hills\, MI\, 48304\, United States
CATEGORIES:Retreats
END:VEVENT
BEGIN:VEVENT
DTSTART;TZID=America/Detroit:20260215T143000
DTEND;TZID=America/Detroit:20260215T160000
DTSTAMP:20260422T135453
CREATED:20251111T153556Z
LAST-MODIFIED:20260212T151239Z
UID:13414-1771165800-1771171200@www.manresa-sj.org
SUMMARY:Lenten Prayer Series
DESCRIPTION:Feb. 15\, 22 | Mar. 1\, 8\, 15\, 22\, 2026 \nPraying with the Spiritual Exercises of St. Ignatius  \nDeepen your prayer life this Lent through the timeless wisdom of St. Ignatius of Loyola. Join us for a six-week guided prayer experience that will enrich your spiritual practice and draw you closer to God. \nThis series invites you into the rich tradition of Ignatian spirituality. Between sessions\, you’ll be encouraged to engage in daily prayer and reading\, allowing the material to take root in your heart and mind. Each session builds upon the last\, creating a comprehensive experience of Ignatian prayer. The first session will provide guidance on prayer practices to support your journey throughout the series. \nThe format for each meeting will include prayer\, an overview of the week’s topic and guided discussion on the week’s readings in large and small groups.  \nMake This Lent Different \nCommit to this meaningful spiritual practice and discover how the Spiritual Exercises of St. Ignatius can transform your relationship with God. Space is limited. Register today to secure your place in this sacred journey. \nParticipants will need their own copy of the book Ascending with Ignatius by Mark Thibodeaux\, SJ.  \nGuide and Facilitator: Etta MacDonagh-Dumler\, Spiritual Companion and guide for the Spiritual Exercises. \nFinancial assistance available—no one turned away. Call 248.644.4933 Ext. 107 if assistance is needed.
URL:https://www.manresa-sj.org/event/lenten-prayer-series/
LOCATION:MI
CATEGORIES:Programs
ATTACH;FMTTYPE=image/jpeg:https://www.manresa-sj.org/wp-content/uploads/2025/11/Ignatius-by-Rosette-Mociornitza.jpg
END:VEVENT
END:VCALENDAR