BEGIN:VCALENDAR
VERSION:2.0
PRODID:-//Manresa Jesuit Retreat House - ECPv6.15.20//NONSGML v1.0//EN
CALSCALE:GREGORIAN
METHOD:PUBLISH
X-ORIGINAL-URL:https://www.manresa-sj.org
X-WR-CALDESC:Events for Manresa Jesuit Retreat House
REFRESH-INTERVAL;VALUE=DURATION:PT1H
X-Robots-Tag:noindex
X-PUBLISHED-TTL:PT1H
BEGIN:VTIMEZONE
TZID:America/Detroit
BEGIN:DAYLIGHT
TZOFFSETFROM:-0500
TZOFFSETTO:-0400
TZNAME:EDT
DTSTART:20250309T070000
END:DAYLIGHT
BEGIN:STANDARD
TZOFFSETFROM:-0400
TZOFFSETTO:-0500
TZNAME:EST
DTSTART:20251102T060000
END:STANDARD
BEGIN:DAYLIGHT
TZOFFSETFROM:-0500
TZOFFSETTO:-0400
TZNAME:EDT
DTSTART:20260308T070000
END:DAYLIGHT
BEGIN:STANDARD
TZOFFSETFROM:-0400
TZOFFSETTO:-0500
TZNAME:EST
DTSTART:20261101T060000
END:STANDARD
BEGIN:DAYLIGHT
TZOFFSETFROM:-0500
TZOFFSETTO:-0400
TZNAME:EDT
DTSTART:20270314T070000
END:DAYLIGHT
BEGIN:STANDARD
TZOFFSETFROM:-0400
TZOFFSETTO:-0500
TZNAME:EST
DTSTART:20271107T060000
END:STANDARD
END:VTIMEZONE
BEGIN:VEVENT
DTSTART;TZID=America/Detroit:20260220T183000
DTEND;TZID=America/Detroit:20260222T123000
DTSTAMP:20260423T162528
CREATED:20250823T135107Z
LAST-MODIFIED:20260226T162018Z
UID:12372-1771612200-1771763400@www.manresa-sj.org
SUMMARY:Weekend Retreat for Men
DESCRIPTION:Silent Retreat for men based on the Spiritual Exercises of St. Ignatius of Loyola. \nPatron: St. Robert Southwell\, SJ | Retreat Theme: The Good Shepherd | Retreat Format: Silence\, with some sharing | Director:  Fr. Robert Scullin\, SJ | Groups: Notre Dame; Ypsilanti Men; Fr. Bernard J. Wernert\, SJ  \nYou do not have to be a member of the parish or group to attend this retreat. All men are welcome. For more information\, call a captain: Roberto Castillo\, 734.470.6173; Brian Condit\, 248.792.2171; Robert Johnson\, 734.417.2309; Peter Kotula\,313.823.0907; James Mann\, 734.909.7096; Mark Millage\, 734.644.6989; John Sennett\, 248.219.9015
URL:https://www.manresa-sj.org/event/weekend-retreat-for-men-28/
LOCATION:Manresa Jesuit Retreat House\, 1390 Quarton Road\, Bloomfield Hills\, MI\, 48304\, United States
CATEGORIES:Retreats
END:VEVENT
BEGIN:VEVENT
DTSTART;TZID=America/Detroit:20260222T133000
DTEND;TZID=America/Detroit:20260222T170000
DTSTAMP:20260423T162528
CREATED:20251111T161927Z
LAST-MODIFIED:20251121T151906Z
UID:13446-1771767000-1771779600@www.manresa-sj.org
SUMMARY:Oración Contemplativa | Contemplative Prayer for Spanish Speakers
DESCRIPTION:22 de febrero  |  22 de marzo | 12 de abril\, 2026 \nPase una tarde de domingo en Manresa escuchando y reflexionando sobre aspectos de la espiritualidad ignaciana mientras disfruta de la tranquilidad y la belleza de nuestras instalaciones y jardines. Las sesiones son guiada por un equipo de acompañantes espirituales con experiencia en la tradición ignaciana. Cada tarde le ayudará a profundizar su fe mediante la oración\, la meditación de las escrituras y el discernimiento\, a medida que aprende a conocer\, amar y servir mejor a Dios en su vida diaria. \nCosto: Tu donativo es Bienvenido. Se alienta a los participantes a donar a Manresa Jesuit Retreat House en apoyo de su Misión. \nPara registrarse\, llame al 248.644.4933 Ext. 128 o correo electrónico ignacianosdemanresa@gmail.com. \n_____________ \nFeb. 22 | Mar. 22 | Apr 12\, 2026 \nSpend a Sunday afternoon at Manresa listening and reflecting on aspects of Ignatian spirituality while enjoying the quiet and beauty of our facility and grounds. Sessions are guided by a team of Spanish-speaking spiritual companions with experience in the Ignatian tradition. Each afternoon will help you to deepen your faith through prayer\, Scripture meditation and discernment as you come to know\, love and serve God better in your daily life.  \nFee: Donations gratefully accepted. Participants are encouraged to donate to Manresa Jesuit Retreat House in support of its Mission. \nTo register\, phone 248.644.4933 Ext. 128 or email ignacianosdemanresa@gmail.com.
URL:https://www.manresa-sj.org/event/oracion-contemplativa-contemplative-prayer-for-spanish-speakers/
LOCATION:Manresa Jesuit Retreat House\, 1390 Quarton Road\, Bloomfield Hills\, MI\, 48304\, United States
CATEGORIES:Programs
END:VEVENT
BEGIN:VEVENT
DTSTART;TZID=America/Detroit:20260222T143000
DTEND;TZID=America/Detroit:20260222T160000
DTSTAMP:20260423T162528
CREATED:20251119T142225Z
LAST-MODIFIED:20251121T150155Z
UID:13643-1771770600-1771776000@www.manresa-sj.org
SUMMARY:Lenten Prayer Series
DESCRIPTION:Feb. 15\, 22 | Mar. 1\, 8\, 15\, 22\, 2026 \nPraying with the Spiritual Exercises of St. Ignatius  \nDeepen your prayer life this Lent through the timeless wisdom of St. Ignatius of Loyola. Join us for a six-week guided prayer experience that will enrich your spiritual practice and draw you closer to God. \nThis series invites you into the rich tradition of Ignatian spirituality. Between sessions\, you’ll be encouraged to engage in daily prayer and reading\, allowing the material to take root in your heart and mind. Each session builds upon the last\, creating a comprehensive experience of Ignatian prayer. The first session will provide guidance on prayer practices to support your journey throughout the series. \nThe format for each meeting will include prayer\, an overview of the week’s topic and guided discussion on the week’s readings in large and small groups.  \nMake This Lent Different \nCommit to this meaningful spiritual practice and discover how the Spiritual Exercises of St. Ignatius can transform your relationship with God. Space is limited. Register today to secure your place in this sacred journey. \nParticipants will need their own copy of the book Ascending with Ignatius by Mark Thibodeaux\, SJ.  \nGuide and Facilitator: Etta MacDonagh-Dumler\, Spiritual Companion and guide for the Spiritual Exercises. \nFinancial assistance available—no one turned away. Call 248.644.4933 Ext. 107 if assistance is needed.
URL:https://www.manresa-sj.org/event/lenten-prayer-series-6/
LOCATION:MI
CATEGORIES:Programs
ATTACH;FMTTYPE=image/jpeg:https://www.manresa-sj.org/wp-content/uploads/2025/11/Ignatius-by-Rosette-Mociornitza.jpg
END:VEVENT
END:VCALENDAR