BEGIN:VCALENDAR
VERSION:2.0
PRODID:-//Manresa Jesuit Retreat House - ECPv6.15.20//NONSGML v1.0//EN
CALSCALE:GREGORIAN
METHOD:PUBLISH
X-ORIGINAL-URL:https://www.manresa-sj.org
X-WR-CALDESC:Events for Manresa Jesuit Retreat House
REFRESH-INTERVAL;VALUE=DURATION:PT1H
X-Robots-Tag:noindex
X-PUBLISHED-TTL:PT1H
BEGIN:VTIMEZONE
TZID:America/Detroit
BEGIN:DAYLIGHT
TZOFFSETFROM:-0500
TZOFFSETTO:-0400
TZNAME:EDT
DTSTART:20250309T070000
END:DAYLIGHT
BEGIN:STANDARD
TZOFFSETFROM:-0400
TZOFFSETTO:-0500
TZNAME:EST
DTSTART:20251102T060000
END:STANDARD
BEGIN:DAYLIGHT
TZOFFSETFROM:-0500
TZOFFSETTO:-0400
TZNAME:EDT
DTSTART:20260308T070000
END:DAYLIGHT
BEGIN:STANDARD
TZOFFSETFROM:-0400
TZOFFSETTO:-0500
TZNAME:EST
DTSTART:20261101T060000
END:STANDARD
BEGIN:DAYLIGHT
TZOFFSETFROM:-0500
TZOFFSETTO:-0400
TZNAME:EDT
DTSTART:20270314T070000
END:DAYLIGHT
BEGIN:STANDARD
TZOFFSETFROM:-0400
TZOFFSETTO:-0500
TZNAME:EST
DTSTART:20271107T060000
END:STANDARD
END:VTIMEZONE
BEGIN:VEVENT
DTSTART;TZID=America/Detroit:20260223T190000
DTEND;TZID=America/Detroit:20260223T200000
DTSTAMP:20260423T093847
CREATED:20251113T134641Z
LAST-MODIFIED:20260119T123826Z
UID:13546-1771873200-1771876800@www.manresa-sj.org
SUMMARY:Christian Yoga for body\, mind & spirit (Winter Session)
DESCRIPTION:Dec. 1\, 8\, 15\, 22\, 2025 | Jan. 5\, 12\, 19\, 26 | Feb. 2\, 9\, 16\, 23\, 2026 \nChristian Yoga is a form of prayer that invites us to be present in the moment with God\, with a focus on breath. As we move through postures accompanied by meditative quiet and prayer\, we find balance\, strength and union of our whole self with God. In the end\, this brings us to our quiet center to be still with God and to know His peace. Join us for this healthy\, healing practice in an atmosphere of prayer and meditation. \nZoom instructions will be emailed to registered participants prior to each session. \nInstructor: Mary Gresens is a graduate of Manresa’s Internship in Spiritual Companionship\, certified yoga instructor and first degree black belt Nia teacher.
URL:https://www.manresa-sj.org/event/christian-yoga-for-body-mind-spirit-64/
LOCATION:MI
CATEGORIES:Programs
ATTACH;FMTTYPE=image/jpeg:https://www.manresa-sj.org/wp-content/uploads/2020/03/rock-stack-crop.jpg
END:VEVENT
END:VCALENDAR