BEGIN:VCALENDAR
VERSION:2.0
PRODID:-//Manresa Jesuit Retreat House - ECPv6.15.20//NONSGML v1.0//EN
CALSCALE:GREGORIAN
METHOD:PUBLISH
X-WR-CALNAME:Manresa Jesuit Retreat House
X-ORIGINAL-URL:https://www.manresa-sj.org
X-WR-CALDESC:Events for Manresa Jesuit Retreat House
REFRESH-INTERVAL;VALUE=DURATION:PT1H
X-Robots-Tag:noindex
X-PUBLISHED-TTL:PT1H
BEGIN:VTIMEZONE
TZID:America/Detroit
BEGIN:DAYLIGHT
TZOFFSETFROM:-0500
TZOFFSETTO:-0400
TZNAME:EDT
DTSTART:20250309T070000
END:DAYLIGHT
BEGIN:STANDARD
TZOFFSETFROM:-0400
TZOFFSETTO:-0500
TZNAME:EST
DTSTART:20251102T060000
END:STANDARD
BEGIN:DAYLIGHT
TZOFFSETFROM:-0500
TZOFFSETTO:-0400
TZNAME:EDT
DTSTART:20260308T070000
END:DAYLIGHT
BEGIN:STANDARD
TZOFFSETFROM:-0400
TZOFFSETTO:-0500
TZNAME:EST
DTSTART:20261101T060000
END:STANDARD
BEGIN:DAYLIGHT
TZOFFSETFROM:-0500
TZOFFSETTO:-0400
TZNAME:EDT
DTSTART:20270314T070000
END:DAYLIGHT
BEGIN:STANDARD
TZOFFSETFROM:-0400
TZOFFSETTO:-0500
TZNAME:EST
DTSTART:20271107T060000
END:STANDARD
END:VTIMEZONE
BEGIN:VEVENT
DTSTART;TZID=America/Detroit:20260313T183000
DTEND;TZID=America/Detroit:20260315T123000
DTSTAMP:20260421T112323
CREATED:20250823T141127Z
LAST-MODIFIED:20251226T011515Z
UID:12384-1773426600-1773577800@www.manresa-sj.org
SUMMARY:Weekend Retreat for Men
DESCRIPTION:Silent Retreat for men based on the Spiritual Exercises of St. Ignatius of Loyola. \nPatron: St. Andrew Bobola\, SJ | Retreat Theme: Seeds of Hope Spring Forth | Retreat Format: Silence with optional sharing | Director: Sr. Linda Sevcik\, SM | Groups: Mother of God; U of D High Alumni; St. Irenaeus-Rochester \nYou do not have to be a member of the parish or group to attend this retreat. All men are welcome. For more information\, call a captain: James Klauke\, 517.403.8767; Dave Nona\, 248.521.0977; Glen Steyer\, 248.464.3447; Athir Battah\, 248.320.9008; Andrew Kassab\, 248.210.8229
URL:https://www.manresa-sj.org/event/weekend-retreat-for-men-29/
LOCATION:Manresa Jesuit Retreat House\, 1390 Quarton Road\, Bloomfield Hills\, MI\, 48304\, United States
CATEGORIES:Retreats
END:VEVENT
BEGIN:VEVENT
DTSTART;TZID=America/Detroit:20260315T140000
DTEND;TZID=America/Detroit:20260315T190000
DTSTAMP:20260421T112323
CREATED:20251119T152741Z
LAST-MODIFIED:20251121T152023Z
UID:13676-1773583200-1773601200@www.manresa-sj.org
SUMMARY:Sunday Afternoon Reflection—Lent
DESCRIPTION:Echoes of Hope: A Lenten Walk with the Psalms \nThe Psalms\, ancient songs and prayers found in the Old Testament\, give voice to the full spectrum of human experience—from sorrow\, longing and repentance to joy\, trust and praise. \nDuring Lent\, their words invite believers to confront their shortcomings\, seek forgiveness and find hope in God’s steadfast love. \nThis Lenten afternoon dedicated to the Psalms is a time set aside for input\, reflection\, prayer and renewal. Participants will discover that meditating on the Psalms in a communal setting offers an opportunity for personal devotion and a sense of shared pilgrimage toward Easter. \nJoin us for the afternoon\, which includes two talks\, time for private prayer/devotion\, Sunday Mass and a delicious meal to round out the day. Your retreat begins at 2:00 PM; however\, you may arrive any time after 1:30 PM for refreshments and fellowship. \nFacilitators: Fr. Fran Daly\, SJ was ordained in 1972 and has extensive experience teaching Ignatian spirituality and leading the Spiritual Exercises.  From 2014 to 2021 he was Executive Director of Manresa Jesuit Retreat House\, where he continues to facilitate retreats and days of reflection. Sr. Kathie Budesky\, IHM graduated from Mundelein College with a Master’s Degree in Religious Studies and Spirituality and is currently the Director of Visitation North Spirituality Center in Bloomfield Hills\, where she is also a presenter and facilitator.
URL:https://www.manresa-sj.org/event/sunday-afternoon-reflection/
LOCATION:Manresa Jesuit Retreat House\, 1390 Quarton Road\, Bloomfield Hills\, MI\, 48304\, United States
CATEGORIES:Programs
ATTACH;FMTTYPE=image/jpeg:https://www.manresa-sj.org/wp-content/uploads/2025/11/cathedral-interior.jpg
END:VEVENT
BEGIN:VEVENT
DTSTART;TZID=America/Detroit:20260315T143000
DTEND;TZID=America/Detroit:20260315T160000
DTSTAMP:20260421T112323
CREATED:20251111T154707Z
LAST-MODIFIED:20251121T150000Z
UID:13430-1773585000-1773590400@www.manresa-sj.org
SUMMARY:Lenten Prayer Series
DESCRIPTION:Feb. 15\, 22 | Mar. 1\, 8\, 15\, 22\, 2026 \nPraying with the Spiritual Exercises of St. Ignatius  \nDeepen your prayer life this Lent through the timeless wisdom of St. Ignatius of Loyola. Join us for a six-week guided prayer experience that will enrich your spiritual practice and draw you closer to God. \nThis series invites you into the rich tradition of Ignatian spirituality. Between sessions\, you’ll be encouraged to engage in daily prayer and reading\, allowing the material to take root in your heart and mind. Each session builds upon the last\, creating a comprehensive experience of Ignatian prayer. The first session will provide guidance on prayer practices to support your journey throughout the series. \nThe format for each meeting will include prayer\, an overview of the week’s topic and guided discussion on the week’s readings in large and small groups.  \nMake This Lent Different \nCommit to this meaningful spiritual practice and discover how the Spiritual Exercises of St. Ignatius can transform your relationship with God. Space is limited. Register today to secure your place in this sacred journey. \nParticipants will need their own copy of the book Ascending with Ignatius by Mark Thibodeaux\, SJ.  \nGuide and Facilitator: Etta MacDonagh-Dumler\, Spiritual Companion and guide for the Spiritual Exercises. \nFinancial assistance available—no one turned away. Call 248.644.4933 Ext. 107 if assistance is needed.
URL:https://www.manresa-sj.org/event/lenten-prayer-series-4/
LOCATION:MI
CATEGORIES:Programs
ATTACH;FMTTYPE=image/jpeg:https://www.manresa-sj.org/wp-content/uploads/2025/11/Ignatius-by-Rosette-Mociornitza.jpg
END:VEVENT
END:VCALENDAR