BEGIN:VCALENDAR
VERSION:2.0
PRODID:-//Manresa Jesuit Retreat House - ECPv6.15.20//NONSGML v1.0//EN
CALSCALE:GREGORIAN
METHOD:PUBLISH
X-ORIGINAL-URL:https://www.manresa-sj.org
X-WR-CALDESC:Events for Manresa Jesuit Retreat House
REFRESH-INTERVAL;VALUE=DURATION:PT1H
X-Robots-Tag:noindex
X-PUBLISHED-TTL:PT1H
BEGIN:VTIMEZONE
TZID:America/Detroit
BEGIN:DAYLIGHT
TZOFFSETFROM:-0500
TZOFFSETTO:-0400
TZNAME:EDT
DTSTART:20250309T070000
END:DAYLIGHT
BEGIN:STANDARD
TZOFFSETFROM:-0400
TZOFFSETTO:-0500
TZNAME:EST
DTSTART:20251102T060000
END:STANDARD
BEGIN:DAYLIGHT
TZOFFSETFROM:-0500
TZOFFSETTO:-0400
TZNAME:EDT
DTSTART:20260308T070000
END:DAYLIGHT
BEGIN:STANDARD
TZOFFSETFROM:-0400
TZOFFSETTO:-0500
TZNAME:EST
DTSTART:20261101T060000
END:STANDARD
BEGIN:DAYLIGHT
TZOFFSETFROM:-0500
TZOFFSETTO:-0400
TZNAME:EDT
DTSTART:20270314T070000
END:DAYLIGHT
BEGIN:STANDARD
TZOFFSETFROM:-0400
TZOFFSETTO:-0500
TZNAME:EST
DTSTART:20271107T060000
END:STANDARD
END:VTIMEZONE
BEGIN:VEVENT
DTSTART;TZID=America/Detroit:20260402T183000
DTEND;TZID=America/Detroit:20260404T123000
DTSTAMP:20260421T165727
CREATED:20250823T142457Z
LAST-MODIFIED:20260218T000223Z
UID:12397-1775154600-1775305800@www.manresa-sj.org
SUMMARY:Holy Week Retreat for Men and Women
DESCRIPTION:Silent Retreat for men and women based on the Spiritual Exercises of St. Ignatius of Loyola. \nPatron: Fr. Pierre Teilard de Chardin\, SJ | Retreat Theme: Holy Week: Companions at Calvary | Retreat Format: Silent | Director: Fr. Robert Flack\, SJ | Note: No lunch on Saturday\, final day of retreat. \nHoly Week is the ideal time to move aside from one’s ordinary concerns\, to come away into the quiet and to spend some time pondering the mysteries of Jesus’ passion\, death and resurrection. We will walk with our Lord on the road to Calvary as if we were with Him\, from His final meal with His disciples until the break of dawn on Easter morning. In addition to the presentations and ample time for personal prayer and reflection\, the retreat includes the Holy Thursday Mass of the Lord’s Supper\, the Good Friday Celebration of the Lord’s Passion\, a healing service and a Holy Saturday morning Prayer Service. \nFor more information\, call a captain: Stephen Dunn\, 248.643.8130; Michael S. Green\, 517.719.5511; Thomas P. Howe\, 248.229.4370
URL:https://www.manresa-sj.org/event/holy-week-retreat-for-men-and-women-2/
LOCATION:Manresa Jesuit Retreat House\, 1390 Quarton Road\, Bloomfield Hills\, MI\, 48304\, United States
CATEGORIES:Retreats
ATTACH;FMTTYPE=image/jpeg:https://www.manresa-sj.org/wp-content/uploads/2025/08/passion-of-christ.jpg
END:VEVENT
END:VCALENDAR