BEGIN:VCALENDAR
VERSION:2.0
PRODID:-//Manresa Jesuit Retreat House - ECPv6.15.20//NONSGML v1.0//EN
CALSCALE:GREGORIAN
METHOD:PUBLISH
X-WR-CALNAME:Manresa Jesuit Retreat House
X-ORIGINAL-URL:https://www.manresa-sj.org
X-WR-CALDESC:Events for Manresa Jesuit Retreat House
REFRESH-INTERVAL;VALUE=DURATION:PT1H
X-Robots-Tag:noindex
X-PUBLISHED-TTL:PT1H
BEGIN:VTIMEZONE
TZID:America/Detroit
BEGIN:DAYLIGHT
TZOFFSETFROM:-0500
TZOFFSETTO:-0400
TZNAME:EDT
DTSTART:20250309T070000
END:DAYLIGHT
BEGIN:STANDARD
TZOFFSETFROM:-0400
TZOFFSETTO:-0500
TZNAME:EST
DTSTART:20251102T060000
END:STANDARD
BEGIN:DAYLIGHT
TZOFFSETFROM:-0500
TZOFFSETTO:-0400
TZNAME:EDT
DTSTART:20260308T070000
END:DAYLIGHT
BEGIN:STANDARD
TZOFFSETFROM:-0400
TZOFFSETTO:-0500
TZNAME:EST
DTSTART:20261101T060000
END:STANDARD
BEGIN:DAYLIGHT
TZOFFSETFROM:-0500
TZOFFSETTO:-0400
TZNAME:EDT
DTSTART:20270314T070000
END:DAYLIGHT
BEGIN:STANDARD
TZOFFSETFROM:-0400
TZOFFSETTO:-0500
TZNAME:EST
DTSTART:20271107T060000
END:STANDARD
END:VTIMEZONE
BEGIN:VEVENT
DTSTART;TZID=America/Detroit:20260420T190000
DTEND;TZID=America/Detroit:20260420T200000
DTSTAMP:20260420T031312
CREATED:20260117T051624Z
LAST-MODIFIED:20260221T000901Z
UID:14186-1776711600-1776715200@www.manresa-sj.org
SUMMARY:Christian Yoga for Body\, Mind & Spirit
DESCRIPTION:Mar. 2\, 9\, 16\, 23\, 30 | Apr. 6\, 13\, 20\, 27 | May 4\, 11\, 18 \nChristian Yoga is a form of prayer that invites us to be present in the moment with God\, with a focus on breath. As we move through postures accompanied by meditative quiet and prayer\, we find balance\, strength and union of our whole self with God. In the end\, this brings us to our quiet center to be still with God and to know His peace. Join us for this healthy\, healing practice in an atmosphere of prayer and meditation. \nZoom instructions will be emailed to registered participants prior to each session. \nInstructor:Mary Gresens\, DLS is a professor\, lecturer and yoga teacher. A graduate of Manresa’s Internship in Spiritual Companionship\, she offers spiritual companionship\, leads retreats and seminars and is dedicated to helping others find balance and harmony through prayer\, meditation\, and movement.
URL:https://www.manresa-sj.org/event/christian-yoga-for-body-mind-spirit-72/
LOCATION:MI
CATEGORIES:Programs
ATTACH;FMTTYPE=image/jpeg:https://www.manresa-sj.org/wp-content/uploads/2026/01/yoga-rocks-26.jpg
END:VEVENT
END:VCALENDAR