BEGIN:VCALENDAR
VERSION:2.0
PRODID:-//Manresa Jesuit Retreat House - ECPv6.15.20//NONSGML v1.0//EN
CALSCALE:GREGORIAN
METHOD:PUBLISH
X-WR-CALNAME:Manresa Jesuit Retreat House
X-ORIGINAL-URL:https://www.manresa-sj.org
X-WR-CALDESC:Events for Manresa Jesuit Retreat House
REFRESH-INTERVAL;VALUE=DURATION:PT1H
X-Robots-Tag:noindex
X-PUBLISHED-TTL:PT1H
BEGIN:VTIMEZONE
TZID:America/Detroit
BEGIN:DAYLIGHT
TZOFFSETFROM:-0500
TZOFFSETTO:-0400
TZNAME:EDT
DTSTART:20250309T070000
END:DAYLIGHT
BEGIN:STANDARD
TZOFFSETFROM:-0400
TZOFFSETTO:-0500
TZNAME:EST
DTSTART:20251102T060000
END:STANDARD
BEGIN:DAYLIGHT
TZOFFSETFROM:-0500
TZOFFSETTO:-0400
TZNAME:EDT
DTSTART:20260308T070000
END:DAYLIGHT
BEGIN:STANDARD
TZOFFSETFROM:-0400
TZOFFSETTO:-0500
TZNAME:EST
DTSTART:20261101T060000
END:STANDARD
BEGIN:DAYLIGHT
TZOFFSETFROM:-0500
TZOFFSETTO:-0400
TZNAME:EDT
DTSTART:20270314T070000
END:DAYLIGHT
BEGIN:STANDARD
TZOFFSETFROM:-0400
TZOFFSETTO:-0500
TZNAME:EST
DTSTART:20271107T060000
END:STANDARD
END:VTIMEZONE
BEGIN:VEVENT
DTSTART;TZID=America/Detroit:20260424T083000
DTEND;TZID=America/Detroit:20260424T103000
DTSTAMP:20260424T134116
CREATED:20260318T015604Z
LAST-MODIFIED:20260318T015940Z
UID:14811-1777019400-1777026600@www.manresa-sj.org
SUMMARY:Arbor Day Celebration: Blessing of 100 Trees
DESCRIPTION:All are invited to join us for an Arbor Day Blessing of 100 Trees when we’ll bless 100 Trees for 100 More Years and honor those who donated one or more trees. \nThese magnificent trees\, standing 40 to 60 feet tall at maturity\, will create a natural sanctuary along our eastern property line\, softening traffic noise and adding another layer of beauty to the 39 acres our retreatants cherish. Each tree represents a living legacy—a gift to future generations who will walk our grounds in prayer and contemplation. Light refreshments will be served. RSVP to frontoffice@manresa-sj.org or phone 248.644.4933 Ext. 0. \nDonate a tree
URL:https://www.manresa-sj.org/event/arbor-day-celebration-blessing-of-100-trees/
LOCATION:Manresa Jesuit Retreat House\, 1390 Quarton Road\, Bloomfield Hills\, MI\, 48304\, United States
CATEGORIES:Programs
ATTACH;FMTTYPE=image/jpeg:https://www.manresa-sj.org/wp-content/uploads/2026/03/100-TREES-2.jpg
END:VEVENT
BEGIN:VEVENT
DTSTART;TZID=America/Detroit:20260424T183000
DTEND;TZID=America/Detroit:20260426T123000
DTSTAMP:20260424T134116
CREATED:20250823T145039Z
LAST-MODIFIED:20260114T164612Z
UID:12411-1777055400-1777206600@www.manresa-sj.org
SUMMARY:Weekend Retreat for Men
DESCRIPTION:Silent Retreat for men based on the Spiritual Exercises of St. Ignatius of Loyola. \nPatron: Our Lady of the Way | Retreat Theme: Reflecting on Pope Leo’s Dilexi Te | Retreat Format: Silence\, with some sharing | Director: Fr. Robert Scullin\, SJ | Groups: Men of Manresa; Gaylord; Mt. Pleasant; Detroit Police & Fire Fighters; St. Mary Magdalen  \nYou do not have to be a member of the parish or group to attend this retreat. All men are welcome. For more information\, call a captain: Joseph Panozzo; 248.982.8218; Ronald Seguin\, 313.258.5910; Richard Shavinski\, 989.350.9738
URL:https://www.manresa-sj.org/event/weekend-retreat-for-men-32/
LOCATION:Manresa Jesuit Retreat House\, 1390 Quarton Road\, Bloomfield Hills\, MI\, 48304\, United States
CATEGORIES:Retreats
END:VEVENT
END:VCALENDAR