BEGIN:VCALENDAR
VERSION:2.0
PRODID:-//Manresa Jesuit Retreat House - ECPv6.15.20//NONSGML v1.0//EN
CALSCALE:GREGORIAN
METHOD:PUBLISH
X-WR-CALNAME:Manresa Jesuit Retreat House
X-ORIGINAL-URL:https://www.manresa-sj.org
X-WR-CALDESC:Events for Manresa Jesuit Retreat House
REFRESH-INTERVAL;VALUE=DURATION:PT1H
X-Robots-Tag:noindex
X-PUBLISHED-TTL:PT1H
BEGIN:VTIMEZONE
TZID:America/Detroit
BEGIN:DAYLIGHT
TZOFFSETFROM:-0500
TZOFFSETTO:-0400
TZNAME:EDT
DTSTART:20220313T070000
END:DAYLIGHT
BEGIN:STANDARD
TZOFFSETFROM:-0400
TZOFFSETTO:-0500
TZNAME:EST
DTSTART:20221106T060000
END:STANDARD
BEGIN:DAYLIGHT
TZOFFSETFROM:-0500
TZOFFSETTO:-0400
TZNAME:EDT
DTSTART:20230312T070000
END:DAYLIGHT
BEGIN:STANDARD
TZOFFSETFROM:-0400
TZOFFSETTO:-0500
TZNAME:EST
DTSTART:20231105T060000
END:STANDARD
BEGIN:DAYLIGHT
TZOFFSETFROM:-0500
TZOFFSETTO:-0400
TZNAME:EDT
DTSTART:20240310T070000
END:DAYLIGHT
BEGIN:STANDARD
TZOFFSETFROM:-0400
TZOFFSETTO:-0500
TZNAME:EST
DTSTART:20241103T060000
END:STANDARD
END:VTIMEZONE
BEGIN:VEVENT
DTSTART;TZID=America/Detroit:20230901T193000
DTEND;TZID=America/Detroit:20230903T123000
DTSTAMP:20260420T123759
CREATED:20230210T064726Z
LAST-MODIFIED:20230906T055840Z
UID:3106-1693596600-1693744200@www.manresa-sj.org
SUMMARY:Christian Yoga Retreat
DESCRIPTION:Gift and Gratitude: Finding God in All Things Patron: Fr. John LaFarge\, SJ \nGod asks us to be still so that we can be with Him and be open to His love and guidance. Quieting the mind and shutting off its chatter and constant activity requires time and practice. A powerful way to find stillness and inner peace is through the combination of contemplation and yoga. \nThis retreat invites you to step out of your noisy world and spend time in silence with yourself and God. Through guided meditations\, Christian contemplative yoga sessions\, and time for prayer and quiet reflection\, you are giving yourself a gift. \nRetreat Directors: Fr. Leo Cachat\, SJ\, Mary Gresens and DiAnne Patterson Schultz.
URL:https://www.manresa-sj.org/event/christian-yoga-retreat-september-1-3-2023/
LOCATION:Manresa Jesuit Retreat House\, 1390 Quarton Road\, Bloomfield Hills\, MI\, 48304\, United States
CATEGORIES:Retreats
ATTACH;FMTTYPE=image/jpeg:https://www.manresa-sj.org/wp-content/uploads/2023/08/Christian-Yoga-scaled.jpg
END:VEVENT
END:VCALENDAR