BEGIN:VCALENDAR
VERSION:2.0
PRODID:-//Manresa Jesuit Retreat House - ECPv6.15.20//NONSGML v1.0//EN
CALSCALE:GREGORIAN
METHOD:PUBLISH
X-WR-CALNAME:Manresa Jesuit Retreat House
X-ORIGINAL-URL:https://www.manresa-sj.org
X-WR-CALDESC:Events for Manresa Jesuit Retreat House
REFRESH-INTERVAL;VALUE=DURATION:PT1H
X-Robots-Tag:noindex
X-PUBLISHED-TTL:PT1H
BEGIN:VTIMEZONE
TZID:America/Detroit
BEGIN:DAYLIGHT
TZOFFSETFROM:-0500
TZOFFSETTO:-0400
TZNAME:EDT
DTSTART:20240310T070000
END:DAYLIGHT
BEGIN:STANDARD
TZOFFSETFROM:-0400
TZOFFSETTO:-0500
TZNAME:EST
DTSTART:20241103T060000
END:STANDARD
BEGIN:DAYLIGHT
TZOFFSETFROM:-0500
TZOFFSETTO:-0400
TZNAME:EDT
DTSTART:20250309T070000
END:DAYLIGHT
BEGIN:STANDARD
TZOFFSETFROM:-0400
TZOFFSETTO:-0500
TZNAME:EST
DTSTART:20251102T060000
END:STANDARD
BEGIN:DAYLIGHT
TZOFFSETFROM:-0500
TZOFFSETTO:-0400
TZNAME:EDT
DTSTART:20260308T070000
END:DAYLIGHT
BEGIN:STANDARD
TZOFFSETFROM:-0400
TZOFFSETTO:-0500
TZNAME:EST
DTSTART:20261101T060000
END:STANDARD
END:VTIMEZONE
BEGIN:VEVENT
DTSTART;TZID=America/Detroit:20251201T190000
DTEND;TZID=America/Detroit:20251201T200000
DTSTAMP:20260420T113555
CREATED:20251113T124314Z
LAST-MODIFIED:20260119T124244Z
UID:13490-1764615600-1764619200@www.manresa-sj.org
SUMMARY:Christian Yoga for body\, mind & spirit (Winter Session)
DESCRIPTION:Dec. 1\, 8\, 15\, 22\, 2025 | Jan. 5\, 12\, 19\, 26 | Feb. 2\, 9\, 16\, 23\, 2026 \nChristian Yoga is a form of prayer that invites us to be present in the moment with God\, with a focus on breath. As we move through postures accompanied by meditative quiet and prayer\, we find balance\, strength and union of our whole self with God. In the end\, this brings us to our quiet center to be still with God and to know His peace. Join us for this healthy\, healing practice in an atmosphere of prayer and meditation. \nZoom instructions will be emailed to registered participants prior to each session. \nInstructor: Mary Gresens is a graduate of Manresa’s Internship in Spiritual Companionship\, certified yoga instructor and first degree black belt Nia teacher.
URL:https://www.manresa-sj.org/event/christian-yoga-for-body-mind-spirit-53/
LOCATION:MI
CATEGORIES:Programs
ATTACH;FMTTYPE=image/jpeg:https://www.manresa-sj.org/wp-content/uploads/2020/03/rock-stack-crop.jpg
END:VEVENT
BEGIN:VEVENT
DTSTART;TZID=America/Detroit:20251202T190000
DTEND;TZID=America/Detroit:20251202T203000
DTSTAMP:20260420T113555
CREATED:20250704T154728Z
LAST-MODIFIED:20251008T073158Z
UID:11997-1764702000-1764707400@www.manresa-sj.org
SUMMARY:Praying with Art: Christ’s Life in Contemporary Art – Part I
DESCRIPTION:Sept. 16 | Oct. 7\, 21 | Nov. 4\, 18 | Dec. 2\, 16\, 2025 \nOur Praying with Art seminar during this semester and the next will be looking at pieces of art that are significantly different from anything we have seen in the last eight years. \nThis is going to be an enjoyable adventure into the life of Christ as depicted by dozens of contemporary artists\, images selected from a collection of nearly 200 pieces. The selections will include a wide variety of styles\, avoiding the overly realistic or abstract works. \nPlease join us in appreciating our contemporary artists and praying with their works. \nFacilitator:  Fr. Peter Fennessy\, SJ\, is a long-time member of Manresa’s ministerial team.
URL:https://www.manresa-sj.org/event/praying-with-art-christs-life-in-contemporary-art-part-i-6/
LOCATION:Manresa Jesuit Retreat House\, 1390 Quarton Road\, Bloomfield Hills\, MI\, 48304\, United States
CATEGORIES:Programs
ATTACH;FMTTYPE=image/jpeg:https://www.manresa-sj.org/wp-content/uploads/2020/03/PWA-gold-cross-red-background.jpg
END:VEVENT
BEGIN:VEVENT
DTSTART;TZID=America/Detroit:20251205T183000
DTEND;TZID=America/Detroit:20251207T123000
DTSTAMP:20260420T113555
CREATED:20240615T140015Z
LAST-MODIFIED:20251201T194645Z
UID:8371-1764959400-1765110600@www.manresa-sj.org
SUMMARY:Weekend Retreat for Men
DESCRIPTION:Silent retreat for men in the tradition of St. Ignatius of Loyola \nPatron: St. Francis Xavier\, SJ | Retreat Theme:  Reflecting on Your Life’s Journey | Retreat Format: Silent with some sharing | Director: Sr. Linda Sevcik\, SM | Groups: Bayer-Toledo \nYou do not have to be a member of the parish or group in order to attend this retreat. All men are welcome. For more information\, contact a captain: For more information\, contact a captain: John Owczarzak-419.349.2426\, Michael Sauppe-419.260.9284\, Larry Saville-313.413.4521\, Mel Wicks-419.260-6479.
URL:https://www.manresa-sj.org/event/weekend-retreat-for-men-26/
LOCATION:Manresa Jesuit Retreat House\, 1390 Quarton Road\, Bloomfield Hills\, MI\, 48304\, United States
CATEGORIES:Retreats
ATTACH;FMTTYPE=image/jpeg:https://www.manresa-sj.org/wp-content/uploads/2020/03/Xavier-SJ-St.-Francis.jpg
END:VEVENT
BEGIN:VEVENT
DTSTART;TZID=America/Detroit:20251207T140000
DTEND;TZID=America/Detroit:20251207T190000
DTSTAMP:20260420T113555
CREATED:20250820T011716Z
LAST-MODIFIED:20250904T151235Z
UID:12324-1765116000-1765134000@www.manresa-sj.org
SUMMARY:Sunday Afternoon Reflection-Advent
DESCRIPTION:Advent Longing—Advent Hope \nAs we name our deepest wishes and hearts’ desire—our holy longing—we open up to the blessings of the Advent Season and the gift of Advent Hope. We temper our consumerism and help those in need to experience a new gift of hope through music\, brief meditations and story-telling from the book of Isaiah. We find ways to embrace the darkness of the season and of our world. \nJoin us for the afternoon which includes presentations\, time for private prayer/devotion\, Sunday Mass and a delicious meal to round out the day. Your retreat begins at 2:00 PM; however\, you may arrive any time after 1:30 PM for refreshments and fellowship. \nFacilitator:  Fr. Robert Scullin\, SJ’s ministry includes service in the Office for Hispanic Affairs of the Archdiocese of Detroit and Hispanic and African American parishes. He served as Provincial of the Detroit Province and superior of the Colombiere Jesuit Community in Clarkston before coming to Manresa.
URL:https://www.manresa-sj.org/event/sunday-afternoon-reflection-advent-2/
LOCATION:Manresa Jesuit Retreat House\, 1390 Quarton Road\, Bloomfield Hills\, MI\, 48304\, United States
CATEGORIES:Programs
ATTACH;FMTTYPE=image/jpeg:https://www.manresa-sj.org/wp-content/uploads/2020/03/Advent-25.jpg
END:VEVENT
BEGIN:VEVENT
DTSTART;TZID=America/Detroit:20251208T190000
DTEND;TZID=America/Detroit:20251208T200000
DTSTAMP:20260420T113555
CREATED:20251113T125252Z
LAST-MODIFIED:20260119T124007Z
UID:13496-1765220400-1765224000@www.manresa-sj.org
SUMMARY:Christian Yoga for body\, mind & spirit (Winter Session)
DESCRIPTION:Dec. 1\, 8\, 15\, 22\, 2025 | Jan. 5\, 12\, 19\, 26 | Feb. 2\, 9\, 16\, 23\, 2026 \nChristian Yoga is a form of prayer that invites us to be present in the moment with God\, with a focus on breath. As we move through postures accompanied by meditative quiet and prayer\, we find balance\, strength and union of our whole self with God. In the end\, this brings us to our quiet center to be still with God and to know His peace. Join us for this healthy\, healing practice in an atmosphere of prayer and meditation. \nZoom instructions will be emailed to registered participants prior to each session. \nInstructor: Mary Gresens is a graduate of Manresa’s Internship in Spiritual Companionship\, certified yoga instructor and first degree black belt Nia teacher.
URL:https://www.manresa-sj.org/event/christian-yoga-for-body-mind-spirit-54/
LOCATION:MI
CATEGORIES:Programs
ATTACH;FMTTYPE=image/jpeg:https://www.manresa-sj.org/wp-content/uploads/2020/03/rock-stack-crop.jpg
END:VEVENT
BEGIN:VEVENT
DTSTART;TZID=America/Detroit:20251209T093000
DTEND;TZID=America/Detroit:20251209T113000
DTSTAMP:20260420T113555
CREATED:20250704T140432Z
LAST-MODIFIED:20251008T072816Z
UID:11936-1765272600-1765279800@www.manresa-sj.org
SUMMARY:Scripture Study: Acts of the Apostles
DESCRIPTION:Sept. 16\, 30  | Oct. 7\, 21 | Nov 11\, 25 | Dec. 9\, 2025 \nThe Acts of the Apostles chronicles the early history of the Christian church\, focusing on the growth of the church\, the apostles’ ministry and the spread of the gospel. The second of Luke’s two-part history of the church\, Acts describes how the salvation promised to Israel in the Old Testament and accomplished by Jesus has now under the guidance of the Holy Spirit been extended to the Gentiles through Jesus’ divinely chosen representatives. Join us as we look at the ascension of Jesus\, the descent of the Holy Spirit at Pentecost\, the ministry of Peter and John\, the conversion of Saul to Paul and Paul’s missionary journeys. \nThis course is offered onsite (space limited to 16) or via Zoom. Instructions for Zoom meetings will be emailed to registered participants prior to each session. \n Instructor:  Fr. Steve Hurd\, SJ is Co-director of the Internship in Spiritual Companionship and a popular retreat director at Manresa.
URL:https://www.manresa-sj.org/event/scripture-study-acts-of-the-apostles-7/
LOCATION:Manresa Jesuit Retreat House\, 1390 Quarton Road\, Bloomfield Hills\, MI\, 48304\, United States
CATEGORIES:Programs
ATTACH;FMTTYPE=image/jpeg:https://www.manresa-sj.org/wp-content/uploads/2020/03/pentecost-2.jpg
END:VEVENT
BEGIN:VEVENT
DTSTART;TZID=America/Detroit:20251215T080000
DTEND;TZID=America/Detroit:20251215T153000
DTSTAMP:20260420T113555
CREATED:20250704T125323Z
LAST-MODIFIED:20250904T150915Z
UID:11891-1765785600-1765812600@www.manresa-sj.org
SUMMARY:A Day to Call Your Own
DESCRIPTION:Wednesday\, Sept. 17\, 2025\nThursday\, Oct. 23\, 2025\nMonday\, Dec. 15\, 2025 \nStep away from the cares of your world for a wonderful day of peace and quiet. \nWhat could be better than a day all to yourself? A day to do something good for your soul. A day to relax\, refresh and reflect in a beautiful setting. \nThere’s no better place to spend a day like that than at Manresa. Enjoy the quiet\, away from the busyness of everyday life. \nWe provide you with a private room and a simple lunch; you decide how you want to spend the day: reflect\, pray\, walk the property\, read or just BE. (No director is available or required.) Mark your calendar now to take some time to be alone with God. \nPre-registration is required.  Space is limited.
URL:https://www.manresa-sj.org/event/a-day-to-call-your-own-21/
LOCATION:MI
CATEGORIES:Programs
ATTACH;FMTTYPE=image/jpeg:https://www.manresa-sj.org/wp-content/uploads/2020/03/hammock.jpg
END:VEVENT
BEGIN:VEVENT
DTSTART;TZID=America/Detroit:20251215T190000
DTEND;TZID=America/Detroit:20251215T200000
DTSTAMP:20260420T113555
CREATED:20251113T130213Z
LAST-MODIFIED:20260119T124259Z
UID:13501-1765825200-1765828800@www.manresa-sj.org
SUMMARY:Christian Yoga for body\, mind & spirit (Winter Session)
DESCRIPTION:Dec. 1\, 8\, 15\, 22\, 2025 | Jan. 5\, 12\, 19\, 26 | Feb. 2\, 9\, 16\, 23\, 2026 \nChristian Yoga is a form of prayer that invites us to be present in the moment with God\, with a focus on breath. As we move through postures accompanied by meditative quiet and prayer\, we find balance\, strength and union of our whole self with God. In the end\, this brings us to our quiet center to be still with God and to know His peace. Join us for this healthy\, healing practice in an atmosphere of prayer and meditation. \nZoom instructions will be emailed to registered participants prior to each session. \nInstructor: Mary Gresens is a graduate of Manresa’s Internship in Spiritual Companionship\, certified yoga instructor and first degree black belt Nia teacher.
URL:https://www.manresa-sj.org/event/christian-yoga-for-body-mind-spirit-55/
LOCATION:MI
CATEGORIES:Programs
ATTACH;FMTTYPE=image/jpeg:https://www.manresa-sj.org/wp-content/uploads/2020/03/rock-stack-crop.jpg
END:VEVENT
BEGIN:VEVENT
DTSTART;TZID=America/Detroit:20251216T190000
DTEND;TZID=America/Detroit:20251216T203000
DTSTAMP:20260420T113555
CREATED:20250704T155008Z
LAST-MODIFIED:20251008T073236Z
UID:12002-1765911600-1765917000@www.manresa-sj.org
SUMMARY:Praying with Art: Christ’s Life in Contemporary Art – Part I
DESCRIPTION:Sept. 16 | Oct. 7\, 21 | Nov. 4\, 18 | Dec. 2\, 16\, 2025 \nOur Praying with Art seminar during this semester and the next will be looking at pieces of art that are significantly different from anything we have seen in the last eight years. \nThis is going to be an enjoyable adventure into the life of Christ as depicted by dozens of contemporary artists\, images selected from a collection of nearly 200 pieces. The selections will include a wide variety of styles\, avoiding the overly realistic or abstract works. \nPlease join us in appreciating our contemporary artists and praying with their works. \nFacilitator:  Fr. Peter Fennessy\, SJ\, is a long-time member of Manresa’s ministerial team.
URL:https://www.manresa-sj.org/event/praying-with-art-christs-life-in-contemporary-art-part-i-7/
LOCATION:Manresa Jesuit Retreat House\, 1390 Quarton Road\, Bloomfield Hills\, MI\, 48304\, United States
CATEGORIES:Programs
ATTACH;FMTTYPE=image/jpeg:https://www.manresa-sj.org/wp-content/uploads/2020/03/PWA-gold-cross-red-background.jpg
END:VEVENT
BEGIN:VEVENT
DTSTART;TZID=America/Detroit:20251222T190000
DTEND;TZID=America/Detroit:20251222T200000
DTSTAMP:20260420T113555
CREATED:20251113T130559Z
LAST-MODIFIED:20260119T124223Z
UID:13506-1766430000-1766433600@www.manresa-sj.org
SUMMARY:Christian Yoga for body\, mind & spirit (Winter Session)
DESCRIPTION:Dec. 1\, 8\, 15\, 22\, 2025 | Jan. 5\, 12\, 19\, 26 | Feb. 2\, 9\, 16\, 23\, 2026 \nChristian Yoga is a form of prayer that invites us to be present in the moment with God\, with a focus on breath. As we move through postures accompanied by meditative quiet and prayer\, we find balance\, strength and union of our whole self with God. In the end\, this brings us to our quiet center to be still with God and to know His peace. Join us for this healthy\, healing practice in an atmosphere of prayer and meditation. \nZoom instructions will be emailed to registered participants prior to each session. \nInstructor: Mary Gresens is a graduate of Manresa’s Internship in Spiritual Companionship\, certified yoga instructor and first degree black belt Nia teacher.
URL:https://www.manresa-sj.org/event/christian-yoga-for-body-mind-spirit-56/
LOCATION:MI
CATEGORIES:Programs
ATTACH;FMTTYPE=image/jpeg:https://www.manresa-sj.org/wp-content/uploads/2020/03/rock-stack-crop.jpg
END:VEVENT
END:VCALENDAR